BEGIN:VCALENDAR
VERSION:2.0
PRODID:-//HelloMonaco.ru - ECPv6.0.10//NONSGML v1.0//EN
CALSCALE:GREGORIAN
METHOD:PUBLISH
X-ORIGINAL-URL:https://www.hellomonaco.ru
X-WR-CALDESC:Мероприятия для HelloMonaco.ru
REFRESH-INTERVAL;VALUE=DURATION:PT1H
X-Robots-Tag:noindex
X-PUBLISHED-TTL:PT1H
BEGIN:VTIMEZONE
TZID:Europe/Monaco
BEGIN:DAYLIGHT
TZOFFSETFROM:+0100
TZOFFSETTO:+0200
TZNAME:CEST
DTSTART:20170326T010000
END:DAYLIGHT
BEGIN:STANDARD
TZOFFSETFROM:+0200
TZOFFSETTO:+0100
TZNAME:CET
DTSTART:20171029T010000
END:STANDARD
BEGIN:DAYLIGHT
TZOFFSETFROM:+0100
TZOFFSETTO:+0200
TZNAME:CEST
DTSTART:20180325T010000
END:DAYLIGHT
BEGIN:STANDARD
TZOFFSETFROM:+0200
TZOFFSETTO:+0100
TZNAME:CET
DTSTART:20181028T010000
END:STANDARD
END:VTIMEZONE
BEGIN:VEVENT
DTSTART;VALUE=DATE:20171202
DTEND;VALUE=DATE:20180313
DTSTAMP:20260424T134816
CREATED:20171121T203250Z
LAST-MODIFIED:20171121T203250Z
UID:100346-1512183600-1520823599@www.hellomonaco.ru
SUMMARY:Каток под открытым небом
DESCRIPTION:Со 2 декабря 2017 года по 11 марта 2018 года в порту Монако открывается каток под открытым небом.\nПо соседству с Рождественской деревней у вас будет возможность посетить каток площадью 1000 м 2\, который будет работать почти до середины марта – так что у каждого будет возможность покататься вдоволь. А 24 февраля на катке в Порту Эркюль пройдет Чемпионат Монако по фигурному катанию. Не пропустите! \nДля маленьких посетителей будет организована специальная зона (маленький каток). Вход для детей младше 5 лет на каток бесплатный. Доступ без коньков также предлагается бесплатно для родителей\, которые сопровождают своих детей. \nРазовый тариф – 6\,70 евро\nСезонный тариф (только для школьников и студентов\, проживающих в Монако или обучающихся в учебных заведениях Княжества) – 12 евро. Цена на картинг также стартует от 10 евро. \nПодробное расписание можно узнать на сайте. \nФото: tonkosti.ru
URL:https://www.hellomonaco.ru/event/katok-pod-otkryityim-nebom-2/
LOCATION:Port of Monaco
ATTACH;FMTTYPE=image/jpeg:https://www.hellomonaco.ru/wp-content/uploads/2017/11/Katok_v_Monte-Karlo-1.jpg
END:VEVENT
BEGIN:VEVENT
DTSTART;VALUE=DATE:20171216
DTEND;VALUE=DATE:20180320
DTSTAMP:20260424T134816
CREATED:20171213T185344Z
LAST-MODIFIED:20171213T185344Z
UID:100352-1513393200-1521428399@www.hellomonaco.ru
SUMMARY:Выставка Мишеля Блази в Новом музее
DESCRIPTION:С 16 декабря 2017 года по 18 марта 2018 года в Новом Национальном музее Монако (Вилла Саубер) пройдет выставка Мишеля Блази. \nЭто новая монументальная работа Мишеля Блази под названием «Collection de Chaussures» (2015-2017)\, выпущенная совместно Новым музеем и Департаментом культуры Монако для Венецианского биеннале. \nКоллекция состоит из металлической структуры в виде рамы\, внутри которой рассеивается источник света и подаётся вода. Все это  служит пищей для разных видов растений\, растущих в 27 паре изношенной обуви.\nВ двух других комнатах представлены работы Мишеля Блази из коллекций Peau de Bête (2011) и Nature Molle (2004)\, которые будут впервые представлены в Монако. \nМишель Блази\, родившийся в Монако\, приобрел международную известность благодаря своим инсталляциям\, объединяющим живые материалы.
URL:https://www.hellomonaco.ru/event/vyistavka-mishelya-blazi-v-novom-muzee/
LOCATION:Villa Sauber\, 17\, avenue Princesse Grace\, Monaco
ATTACH;FMTTYPE=image/jpeg:https://www.hellomonaco.ru/wp-content/uploads/2017/12/michel-blazy-collection-de-chaussures-2015-installation-galerie-art-concept-paris-tableau.jpg
END:VEVENT
BEGIN:VEVENT
DTSTART;VALUE=DATE:20180104
DTEND;VALUE=DATE:20180312
DTSTAMP:20260424T134816
CREATED:20180111T120431Z
LAST-MODIFIED:20180111T120431Z
UID:100415-1515034800-1520737199@www.hellomonaco.ru
SUMMARY:Выставка автомобилей Bugatti
DESCRIPTION:До 10 марта музей\, в котором представлена личная коллекция автомобилей князя Монако\, принимает выставку машин легендарной марки Bugatti. \nПомимо красивых и мощных старинных моделей\, принадлежащих правителю Монако и расположенных на террасах Фонвьей\, посетители выставки могут увидеть порядка 15 авто знаменитого французского производителя\, которые были самыми быстрыми машинами своего времени. \nАвтомобили Bugatti\, как говорят\, являются самыми изящными транспортными средствами. Даже сегодня некоторые современные автомобили не могут конкурировать с этими легендами автомобильного мира. Так\, уже в 1930 году модель 43 с ее 8 цилиндрами достигла скорости 180 км/ч. Такого показателя все еще не могут достичь некоторые современные модели. \nДля Этторе Бугатти все в автомобиле должно было быть красивым\, даже под капотом все ровно\, аккуратно и приятно для глаз. Производство Bugatti было остановлено после смерти Этторе в 1947 году. В 1990-х его запустили снова\, создав модель EB110\, которая также представлена на этой удивительной выставке в Монако и которой вы можете полюбоваться на террасах Фонвьей. \nКнязь Альбер II продолжает добавлять модели к частной коллекции\, которую начал собирать его отец. Князь Ренье III любил красивые автомобили и собирал их на протяжении более 40 лет. Выставка пестрит престижными авто и представляет несколько уникальных машин\, которые дороги княжеской семье по личным причинам и от того имеют еще больший вес. Среди марок представленных автомобилей вы увидите Bugatti\, Rolls Royce\, Ferrari\, Maserati\, Lexus с княжеской свадьбы 2011 года\, а также гоночные автомобили с соревнований Ралли Монте-Карло и Гран-при Формулы 1. Все эти захватывающие дух автомобили занимают собой выставочное пространство в 5 000 кв.м.
URL:https://www.hellomonaco.ru/event/vyistavka-avtomobiley-bugatti/
LOCATION:Terrasses de Fontvieille\, Avenue Albert II\, Monaco\, Monaco
ATTACH;FMTTYPE=image/jpeg:https://www.hellomonaco.ru/wp-content/uploads/2018/01/bugatti3-1-1.jpg
END:VEVENT
BEGIN:VEVENT
DTSTART;VALUE=DATE:20180111
DTEND;VALUE=DATE:20180128
DTSTAMP:20260424T134816
CREATED:20180115T092342Z
LAST-MODIFIED:20180115T092342Z
UID:100441-1515639600-1517021999@www.hellomonaco.ru
SUMMARY:Выставка The Magical Light of Venise
DESCRIPTION:С 11 по 26 января в галерее Art Contact проходит выставка под названием The Magical Light of Venise\, на которой выставлены 36 картин\, написанных итальянскими художниками XVIII века. \nВ Монако полотна и гравюры привез Чезаре Лампронти (Cesare Lampronti)\, итальянский антиквар и владелец одноименной арт-галереи в Лондоне. \nВы увидите работы великих ведутистов (а заодно ближе познакомитесь с этим жанром европейской живописи). Ведуты — картины или гравюры с изображением городского пейзажа\, получившие популярность в Венеции XVIII века. \nВ галерее представлены самые яркие образцы данного направления\, созданные величайшими мастерами городского пейзажа\, среди которых Каналетто\, Микеле Мариески\, Бернардо Беллотто и Франческо Гварди. \nThe Magical Light of Venise — третья выставка итальянского коллекционера\, организованная в Монако. Не упустите возможность открыть для себя Венецию через картины итальянских живописцев. \n \nГалерея Art Contact находится по адресу 6 avenue Saint Michel. \nВремя работы: Пн-Сб с 10.30 до 13.00 и с 14.30 до 19.30.
URL:https://www.hellomonaco.ru/event/vyistavka-the-magical-light-of-venise/
ATTACH;FMTTYPE=image/png:https://www.hellomonaco.ru/wp-content/uploads/2018/01/CHP_2234-1.png
END:VEVENT
BEGIN:VEVENT
DTSTART;VALUE=DATE:20180118
DTEND;VALUE=DATE:20180123
DTSTAMP:20260424T134816
CREATED:20180111T075211Z
LAST-MODIFIED:20180111T075211Z
UID:100398-1516244400-1516589999@www.hellomonaco.ru
SUMMARY:Спектакль "Давайте помечтаем!"
DESCRIPTION:С 18 по 21 января в Театре Муз будет показан спектакль «Давайте помечтаем!» Саши Гитри. \nСаша Гитри (1885 — 1957)- французский писатель\, актёр\, режиссёр и продюсер. Плодовитый драматург\, написал более сотни пьес и снял по некоторым из них фильмы. \nВ ролях-  Anthéa Sogno\, Didier Constant и Christophe de Mareuil. \nВремя начала спектакля-  18 и 19 января в 20:30\, 20 января в 21:00\, 21 января в 16:30. \nСтоимость билетов- от 17 до 28 евро\, приобрести их можно здесь. \n 
URL:https://www.hellomonaco.ru/event/spektakl-davayte-pomechtaem/
LOCATION:Театр Муз\, 45 Boulevard du Jardin Exotique\, 98000\, Monaco
ATTACH;FMTTYPE=image/jpeg:https://www.hellomonaco.ru/wp-content/uploads/2018/01/image-2.jpg
END:VEVENT
BEGIN:VEVENT
DTSTART;VALUE=DATE:20180118
DTEND;VALUE=DATE:20180130
DTSTAMP:20260424T134816
CREATED:20171218T064552Z
LAST-MODIFIED:20180111T070121Z
UID:100356-1516244400-1517194799@www.hellomonaco.ru
SUMMARY:42-й Международный цирковой фестиваль Монте-Карло
DESCRIPTION:С 18 по 28 января в Шапито Фонвьей пройдет 42-й Международный цирковой фестиваль. В 2018 году современный цирк отметит свое 250-летие. По этому поводу Оргкомитет циркового фестиваля под председательством принцессы Стефании  пригласил артистов высочайшего класса. \nТакое уникальное мероприятие\, как Международный цирковой фестиваль Монте-Карло был создан князем Ренье III в 1974 году. Этот фестиваль привлекает лучших цирковых артистов со всего мира: акробатов\, воздушных гимнастов\, клоунов\, дрессировщиков… Именно благодаря всем этим артистам\, фестиваль приобрел невероятную популярность и продолжает радовать зрителей ежегодно. В рамках этого фестиваля также вручается «Золотой клоун» — самая престижная награда в мире цирковых искусств. \nСреди участников шоу зрители смогут увидеть Vavilov Troupe с двумя представлениями: акробатическим номером «Банкин»\, во время которого участники выполнят в воздухе сальто и перевороты. Второй номер будет включать двойные и тройные сальто с помощью воздушной платформы. В финале глава труппы спрыгнет с 8-метровой высоты! \nКроме того\, Национальный венгерский цирк будет представлен дуэтом Джозефа и Меррилу Рихтер (Joseph & Merrylu Richter)\, которые покажут номера с участием дрессированных животных. В рамках шоу будут представлены более чем 30 животных\, включая слонов\, зебр\, верблюдов\, лам\, лошадей\, пони и\, самое невероятное\, двух жирафов! Компания жокеев представит самые трудные и головокружительные трюки\, включая номер с пятью акробатами\, которые пронесутся мимо вас\, выполняя номера верхом на одной лошади. \nЧу Чуань-Хо (Chu Chuan-Ho) — еще один молодой участник фестиваля. Этот жонглер с Тайваня исполнит номер\, поставленный великим и прославленным Александром Гримайло (Alexander Grimaïlo). В финале зритель увидит сверхбыстрое жонглирование тремя диаболо. Это просто невероятное зрелище! \nАндрей Жигалов\, комик с тонким юмором\, представит блестящую пантомиму\, сопровождаемую уникальной мимикой. Он представит увлекательные клоунские номера\, чтобы развеселить даже самого серьезного зрителя. \nНаконец\, дуэт эквилибристов «Miracle Duo» подарит нам одно из самых изящных представлений современного цирка! \nВы можете купить билеты онлайн на сайтах www.montecarlofestival.mc\, www.france-billet.com\, www.fnac.com или в кассе Шапито Фонвьей\, открытой с 10:00 до 18:00. Также есть возможность приобрести билеты по почте\, отправив банковский чек с заполненной суммой или данными банковской карты по адресу: Monte-Carlo Festival – Avenue des Ligures – MC 98000 Monaco. Дополнительная информация и бронирование мест может быть осуществлено и по телефону  +377 92 05 23 45.
URL:https://www.hellomonaco.ru/event/42-y-mezhdunarodnyiy-tsirkovoy-festival-monte-karlo/
LOCATION:Espace Fontvieille\, 98000\, Monaco
ATTACH;FMTTYPE=image/jpeg:https://www.hellomonaco.ru/wp-content/uploads/2017/12/chapiteau-chapiteau-monaco.com_-1.jpg
END:VEVENT
BEGIN:VEVENT
DTSTART;TZID=Europe/Monaco:20180118T190000
DTEND;TZID=Europe/Monaco:20180118T210000
DTSTAMP:20260424T134816
CREATED:20180111T065745Z
LAST-MODIFIED:20180111T065745Z
UID:100395-1516302000-1516309200@www.hellomonaco.ru
SUMMARY:Философские семинары на тему «Эстетика насилия»
DESCRIPTION:18 января в театре Принцессы Грейс пройдут философские семинары на тему «Эстетика насилия». \nВедущие-лекторы — Philippe Grosos\, Donatien Grau и Mark Alizart. \nМероприятие организовано Philosophique Meetings de Monaco. \nНачало в 19:00.
URL:https://www.hellomonaco.ru/event/filosofskie-seminaryi-na-temu-estetika-nasiliya/
LOCATION:Théâtre Princesse Grace\, 12\, Avenue d'Ostende 98000 \, Monaco
ATTACH;FMTTYPE=image/jpeg:https://www.hellomonaco.ru/wp-content/uploads/2017/09/theatre-princesse-grace.JPG-1.jpg
END:VEVENT
END:VCALENDAR