BEGIN:VCALENDAR
VERSION:2.0
PRODID:-//HelloMonaco.ru - ECPv6.0.10//NONSGML v1.0//EN
CALSCALE:GREGORIAN
METHOD:PUBLISH
X-ORIGINAL-URL:https://www.hellomonaco.ru
X-WR-CALDESC:Мероприятия для HelloMonaco.ru
REFRESH-INTERVAL;VALUE=DURATION:PT1H
X-Robots-Tag:noindex
X-PUBLISHED-TTL:PT1H
BEGIN:VTIMEZONE
TZID:Europe/Monaco
BEGIN:DAYLIGHT
TZOFFSETFROM:+0100
TZOFFSETTO:+0200
TZNAME:CEST
DTSTART:20170326T010000
END:DAYLIGHT
BEGIN:STANDARD
TZOFFSETFROM:+0200
TZOFFSETTO:+0100
TZNAME:CET
DTSTART:20171029T010000
END:STANDARD
BEGIN:DAYLIGHT
TZOFFSETFROM:+0100
TZOFFSETTO:+0200
TZNAME:CEST
DTSTART:20180325T010000
END:DAYLIGHT
BEGIN:STANDARD
TZOFFSETFROM:+0200
TZOFFSETTO:+0100
TZNAME:CET
DTSTART:20181028T010000
END:STANDARD
END:VTIMEZONE
BEGIN:VEVENT
DTSTART;VALUE=DATE:20171202
DTEND;VALUE=DATE:20180313
DTSTAMP:20260424T133424
CREATED:20171121T203250Z
LAST-MODIFIED:20171121T203250Z
UID:100346-1512183600-1520823599@www.hellomonaco.ru
SUMMARY:Каток под открытым небом
DESCRIPTION:Со 2 декабря 2017 года по 11 марта 2018 года в порту Монако открывается каток под открытым небом.\nПо соседству с Рождественской деревней у вас будет возможность посетить каток площадью 1000 м 2\, который будет работать почти до середины марта – так что у каждого будет возможность покататься вдоволь. А 24 февраля на катке в Порту Эркюль пройдет Чемпионат Монако по фигурному катанию. Не пропустите! \nДля маленьких посетителей будет организована специальная зона (маленький каток). Вход для детей младше 5 лет на каток бесплатный. Доступ без коньков также предлагается бесплатно для родителей\, которые сопровождают своих детей. \nРазовый тариф – 6\,70 евро\nСезонный тариф (только для школьников и студентов\, проживающих в Монако или обучающихся в учебных заведениях Княжества) – 12 евро. Цена на картинг также стартует от 10 евро. \nПодробное расписание можно узнать на сайте. \nФото: tonkosti.ru
URL:https://www.hellomonaco.ru/event/katok-pod-otkryityim-nebom-2/
LOCATION:Port of Monaco
ATTACH;FMTTYPE=image/jpeg:https://www.hellomonaco.ru/wp-content/uploads/2017/11/Katok_v_Monte-Karlo-1.jpg
END:VEVENT
BEGIN:VEVENT
DTSTART;VALUE=DATE:20171216
DTEND;VALUE=DATE:20180320
DTSTAMP:20260424T133424
CREATED:20171213T185344Z
LAST-MODIFIED:20171213T185344Z
UID:100352-1513393200-1521428399@www.hellomonaco.ru
SUMMARY:Выставка Мишеля Блази в Новом музее
DESCRIPTION:С 16 декабря 2017 года по 18 марта 2018 года в Новом Национальном музее Монако (Вилла Саубер) пройдет выставка Мишеля Блази. \nЭто новая монументальная работа Мишеля Блази под названием «Collection de Chaussures» (2015-2017)\, выпущенная совместно Новым музеем и Департаментом культуры Монако для Венецианского биеннале. \nКоллекция состоит из металлической структуры в виде рамы\, внутри которой рассеивается источник света и подаётся вода. Все это  служит пищей для разных видов растений\, растущих в 27 паре изношенной обуви.\nВ двух других комнатах представлены работы Мишеля Блази из коллекций Peau de Bête (2011) и Nature Molle (2004)\, которые будут впервые представлены в Монако. \nМишель Блази\, родившийся в Монако\, приобрел международную известность благодаря своим инсталляциям\, объединяющим живые материалы.
URL:https://www.hellomonaco.ru/event/vyistavka-mishelya-blazi-v-novom-muzee/
LOCATION:Villa Sauber\, 17\, avenue Princesse Grace\, Monaco
ATTACH;FMTTYPE=image/jpeg:https://www.hellomonaco.ru/wp-content/uploads/2017/12/michel-blazy-collection-de-chaussures-2015-installation-galerie-art-concept-paris-tableau.jpg
END:VEVENT
BEGIN:VEVENT
DTSTART;VALUE=DATE:20180104
DTEND;VALUE=DATE:20180312
DTSTAMP:20260424T133424
CREATED:20180111T120431Z
LAST-MODIFIED:20180111T120431Z
UID:100415-1515034800-1520737199@www.hellomonaco.ru
SUMMARY:Выставка автомобилей Bugatti
DESCRIPTION:До 10 марта музей\, в котором представлена личная коллекция автомобилей князя Монако\, принимает выставку машин легендарной марки Bugatti. \nПомимо красивых и мощных старинных моделей\, принадлежащих правителю Монако и расположенных на террасах Фонвьей\, посетители выставки могут увидеть порядка 15 авто знаменитого французского производителя\, которые были самыми быстрыми машинами своего времени. \nАвтомобили Bugatti\, как говорят\, являются самыми изящными транспортными средствами. Даже сегодня некоторые современные автомобили не могут конкурировать с этими легендами автомобильного мира. Так\, уже в 1930 году модель 43 с ее 8 цилиндрами достигла скорости 180 км/ч. Такого показателя все еще не могут достичь некоторые современные модели. \nДля Этторе Бугатти все в автомобиле должно было быть красивым\, даже под капотом все ровно\, аккуратно и приятно для глаз. Производство Bugatti было остановлено после смерти Этторе в 1947 году. В 1990-х его запустили снова\, создав модель EB110\, которая также представлена на этой удивительной выставке в Монако и которой вы можете полюбоваться на террасах Фонвьей. \nКнязь Альбер II продолжает добавлять модели к частной коллекции\, которую начал собирать его отец. Князь Ренье III любил красивые автомобили и собирал их на протяжении более 40 лет. Выставка пестрит престижными авто и представляет несколько уникальных машин\, которые дороги княжеской семье по личным причинам и от того имеют еще больший вес. Среди марок представленных автомобилей вы увидите Bugatti\, Rolls Royce\, Ferrari\, Maserati\, Lexus с княжеской свадьбы 2011 года\, а также гоночные автомобили с соревнований Ралли Монте-Карло и Гран-при Формулы 1. Все эти захватывающие дух автомобили занимают собой выставочное пространство в 5 000 кв.м.
URL:https://www.hellomonaco.ru/event/vyistavka-avtomobiley-bugatti/
LOCATION:Terrasses de Fontvieille\, Avenue Albert II\, Monaco\, Monaco
ATTACH;FMTTYPE=image/jpeg:https://www.hellomonaco.ru/wp-content/uploads/2018/01/bugatti3-1-1.jpg
END:VEVENT
BEGIN:VEVENT
DTSTART;VALUE=DATE:20180118
DTEND;VALUE=DATE:20180130
DTSTAMP:20260424T133424
CREATED:20171218T064552Z
LAST-MODIFIED:20180111T070121Z
UID:100356-1516244400-1517194799@www.hellomonaco.ru
SUMMARY:42-й Международный цирковой фестиваль Монте-Карло
DESCRIPTION:С 18 по 28 января в Шапито Фонвьей пройдет 42-й Международный цирковой фестиваль. В 2018 году современный цирк отметит свое 250-летие. По этому поводу Оргкомитет циркового фестиваля под председательством принцессы Стефании  пригласил артистов высочайшего класса. \nТакое уникальное мероприятие\, как Международный цирковой фестиваль Монте-Карло был создан князем Ренье III в 1974 году. Этот фестиваль привлекает лучших цирковых артистов со всего мира: акробатов\, воздушных гимнастов\, клоунов\, дрессировщиков… Именно благодаря всем этим артистам\, фестиваль приобрел невероятную популярность и продолжает радовать зрителей ежегодно. В рамках этого фестиваля также вручается «Золотой клоун» — самая престижная награда в мире цирковых искусств. \nСреди участников шоу зрители смогут увидеть Vavilov Troupe с двумя представлениями: акробатическим номером «Банкин»\, во время которого участники выполнят в воздухе сальто и перевороты. Второй номер будет включать двойные и тройные сальто с помощью воздушной платформы. В финале глава труппы спрыгнет с 8-метровой высоты! \nКроме того\, Национальный венгерский цирк будет представлен дуэтом Джозефа и Меррилу Рихтер (Joseph & Merrylu Richter)\, которые покажут номера с участием дрессированных животных. В рамках шоу будут представлены более чем 30 животных\, включая слонов\, зебр\, верблюдов\, лам\, лошадей\, пони и\, самое невероятное\, двух жирафов! Компания жокеев представит самые трудные и головокружительные трюки\, включая номер с пятью акробатами\, которые пронесутся мимо вас\, выполняя номера верхом на одной лошади. \nЧу Чуань-Хо (Chu Chuan-Ho) — еще один молодой участник фестиваля. Этот жонглер с Тайваня исполнит номер\, поставленный великим и прославленным Александром Гримайло (Alexander Grimaïlo). В финале зритель увидит сверхбыстрое жонглирование тремя диаболо. Это просто невероятное зрелище! \nАндрей Жигалов\, комик с тонким юмором\, представит блестящую пантомиму\, сопровождаемую уникальной мимикой. Он представит увлекательные клоунские номера\, чтобы развеселить даже самого серьезного зрителя. \nНаконец\, дуэт эквилибристов «Miracle Duo» подарит нам одно из самых изящных представлений современного цирка! \nВы можете купить билеты онлайн на сайтах www.montecarlofestival.mc\, www.france-billet.com\, www.fnac.com или в кассе Шапито Фонвьей\, открытой с 10:00 до 18:00. Также есть возможность приобрести билеты по почте\, отправив банковский чек с заполненной суммой или данными банковской карты по адресу: Monte-Carlo Festival – Avenue des Ligures – MC 98000 Monaco. Дополнительная информация и бронирование мест может быть осуществлено и по телефону  +377 92 05 23 45.
URL:https://www.hellomonaco.ru/event/42-y-mezhdunarodnyiy-tsirkovoy-festival-monte-karlo/
LOCATION:Espace Fontvieille\, 98000\, Monaco
ATTACH;FMTTYPE=image/jpeg:https://www.hellomonaco.ru/wp-content/uploads/2017/12/chapiteau-chapiteau-monaco.com_-1.jpg
END:VEVENT
BEGIN:VEVENT
DTSTART;VALUE=DATE:20180122
DTEND;VALUE=DATE:20180130
DTSTAMP:20260424T133424
CREATED:20180113T093943Z
LAST-MODIFIED:20180117T054952Z
UID:100423-1516590000-1517194799@www.hellomonaco.ru
SUMMARY:86-е Ралли Монте-Карло
DESCRIPTION:С 22 по 28 января в княжестве стартует 86-е Ралли Монте-Карло. \nВ этом году ралли будет проведено неделей позже\, чтобы обеспечить больше снега\, а также дать командам больше времени для подготовки к мероприятию после торжественных мероприятий в конце года. \nСоревнования традиционно организуются Автомобильным клубом Монако и проходят обычно вдоль Лазурного берега и на Юго-востоке Франции. С момента своего создания в 1911 году Князем Альбером I этот сложный этап считается полигоном для проверки улучшений и нововведений в автомобилестроении. Победа в этой гонке приносит автопроизводителю славу и почет. \nЭто ралли отличается от других подобных красивыми и разнообразными участками\, покрытие дороги меняется с сухого асфальта на мокрый\, а затем конкурсантов ждут снег и лед. \nОргкомитет Автомобильного клуба Монако разработал маршрут\, похожий на прошлогодний\, но с несколькими новыми специальными этапами. \nПодробнее о программе и расписании на сайте Автомобильного клуба Монако.
URL:https://www.hellomonaco.ru/event/86-e-ralli-monte-karlo/
ATTACH;FMTTYPE=image/jpeg:https://www.hellomonaco.ru/wp-content/uploads/2018/01/Visuel_WRC2018_web-1-683x1024-1.jpg
END:VEVENT
BEGIN:VEVENT
DTSTART;VALUE=DATE:20180123
DTEND;VALUE=DATE:20180202
DTSTAMP:20260424T133424
CREATED:20180124T095837Z
LAST-MODIFIED:20180124T095837Z
UID:100484-1516676400-1517453999@www.hellomonaco.ru
SUMMARY:Выставка Le Chateau des Destins Croisés
DESCRIPTION:До 31 января в галерее “11 Columbia” в Монако проходит международная выставка современного искусства “Le Chateau des Destins Croisés”\, организованная в сотрудничестве с парижской арт-галереей “Air de Paris”. \n“11 Columbia” стала временным домом для шедевров таких деятелей искусства\, как французский писатель Мишель Уэльбек\, американский художник-постконцептуалист Роб Прюитт\, японский художник Симабуку Митихиро\, норвежский фотограф Торбъерн Родланд и панк-художник и актер из Ниццы Жан-Люк Верна. \nВдохновением для экспозиции стала одноименная работа Итало Кальвино\, которая посвящена глобальным проблемам окружающей среды\, в частности\, климатическим изменениям и таянию ледников. Важно отметить\, что некоторые работы акцентируют внимание на проблемах\, сохраняя при этом свой положительный настрой. \nВыставка современного искусства “Le Chateau des Destins Croisés” объединила не только шедевры изобразительного искусства\, фотографии и скульптуры\, но и элементы дизайна интерьеров. \nЭкспозиция будет открыта до 31 января по адресу 11 Avenue Princesse Grace.
URL:https://www.hellomonaco.ru/event/vyistavka-le-chateau-des-destins-croises/
ATTACH;FMTTYPE=image/jpeg:https://www.hellomonaco.ru/wp-content/uploads/2018/01/Rob-Pryuit-1.jpg
END:VEVENT
BEGIN:VEVENT
DTSTART;VALUE=DATE:20180124
DTEND;VALUE=DATE:20180130
DTSTAMP:20260424T133424
CREATED:20180111T093336Z
LAST-MODIFIED:20180111T093456Z
UID:100407-1516762800-1517194799@www.hellomonaco.ru
SUMMARY:42-й Международный цирковой фестиваль: шоу победителей
DESCRIPTION:С 24 по 28 января в пространстве Фонвьей пройдут шоу-представления победителей 42-го Международного циркового фестиваля Монте-Карло. \nВремя начала представлений: \n24 января — 14:30 \, 20:00 \n25 января — 20:00 \n26 января — 20:00 \n27 января — 14:30\, 20:00 \n28 января — 10:30\,  14:30\, 19:00 \nПодробности на сайте www.montecarlofestival.mc
URL:https://www.hellomonaco.ru/event/42-y-mezhdunarodnyiy-tsirkovoy-festival-shou-pobediteley/
LOCATION:Espace Fontvieille\, 98000\, Monaco
ATTACH;FMTTYPE=image/jpeg:https://www.hellomonaco.ru/wp-content/uploads/2018/01/2016_golden_gala_228.jpg
END:VEVENT
BEGIN:VEVENT
DTSTART;VALUE=DATE:20180125
DTEND;VALUE=DATE:20180130
DTSTAMP:20260424T133424
CREATED:20180112T083459Z
LAST-MODIFIED:20180112T083459Z
UID:100419-1516849200-1517194799@www.hellomonaco.ru
SUMMARY:Театральная постановка "Proudhon Models ... Courbet"
DESCRIPTION:С 25 по 28 января в Театре Муз будет представлена постановка «Proudhon Models … Courbet». \nВ главных ролях — Jean Petrement\, Alain Leclerc\, Elisa Oriol и Yves Jeanbourquin. \nПьер Жозеф Прудон — французский политик\, публицист\, экономист\, философ-мютюэлист и социолог. \nГюстав Курбе — французский живописец\, пейзажист\, жанрист и портретист. \n«Никто не должен игнорировать закон. Также не следует игнорировать\, что Прудон\, отец анархизма\, и Курбе\, художник реализма\, были друзьями и что каждый из них в своей области перевернул историю с ног на голову. Несмотря на их разногласия\, их идеалистическая борьба сводит их вместе\, подталкивая одного к созданию живописной работы\, предназначенной для выражения собственного опыта\, возвращения искусства людям\, а другого к мечтам о более справедливом обществе.» \nСтоимость билетов от 17 до 28 евро\, приобрести их можно здесь. \nВремя спектакля: 25 и 26 января в 20:30\, 27 января  в 21:00\, 28 января в 16:30.
URL:https://www.hellomonaco.ru/event/teatralnaya-postanovka-proudhon-models-courbet/
LOCATION:Театр Муз\, 45 Boulevard du Jardin Exotique\, 98000\, Monaco
ATTACH;FMTTYPE=image/jpeg:https://www.hellomonaco.ru/wp-content/uploads/2018/01/image-10.jpg
END:VEVENT
BEGIN:VEVENT
DTSTART;TZID=Europe/Monaco:20180128T080000
DTEND;TZID=Europe/Monaco:20180128T235500
DTSTAMP:20260424T133424
CREATED:20180116T122008Z
LAST-MODIFIED:20180116T122008Z
UID:100444-1517126400-1517183700@www.hellomonaco.ru
SUMMARY:Соревнования радиоуправляемых электромобилей на открытом катке
DESCRIPTION:28 января на открытом катке пройдут соревнования радиоуправляемых электромобилей. \nВ течение 6 лет любители радиоуправляемых электромобилей принимают участие в подобных соревнованиях. Участникам предлагается принести свой собственный автомобиль на каток\, который будет превращен по этому случаю в гоночный трек на льду. \nПринять участие смогут все модели радиоуправляемых автомобилей. \nВремя соревнований — с 8:00 до 24:00. \nВход свободный. \nДополнительная информация: +377 93 15 06 09
URL:https://www.hellomonaco.ru/event/sorevnovaniya-radioupravlyaemyih-elektromobiley-na-otkryitom-katke-2/
ATTACH;FMTTYPE=image/jpeg:https://www.hellomonaco.ru/wp-content/uploads/2017/12/karting-1.jpg
END:VEVENT
BEGIN:VEVENT
DTSTART;TZID=Europe/Monaco:20180128T150000
DTEND;TZID=Europe/Monaco:20180128T173000
DTSTAMP:20260424T133424
CREATED:20180115T073341Z
LAST-MODIFIED:20180115T073341Z
UID:100433-1517151600-1517160600@www.hellomonaco.ru
SUMMARY:Опера "Сказки Гофмана" Жака Оффенбаха
DESCRIPTION:28 и 31 января Опера Монте-Карло (Зал Гарнье) представит «Сказки Гофмана» Жака Оффенбаха при участии хора Оперы и Филармонического оркестра Монте-Карло. \nРежиссер: Жан-Луи Гринда. \nПартии исполняют: Juan Diego Florez\, Olga Peretyatko\, Nicolas Courjal\, Sophie Marilley\, Rodolphe Briand\, Marc Larcher\, Yuri Kissin\, Antoine Garcin\, Reinaldo Macias\, Paata Burchuladdze\, Christine Solhosse. \nВремя начала представлений: \n31 января в 20:00 \n28 января в 15:00
URL:https://www.hellomonaco.ru/event/opera-skazki-gofmana-zhaka-offenbaha-3/
LOCATION:Opéra Garnier Monte-Carlo\, Casino Monte-Carlo\, Place du Casino\, 98000\, 98000\, Monaco
ATTACH;FMTTYPE=image/jpeg:https://www.hellomonaco.ru/wp-content/uploads/2018/01/Screenshot_1-4-1.jpg
END:VEVENT
BEGIN:VEVENT
DTSTART;TZID=Europe/Monaco:20180128T210000
DTEND;TZID=Europe/Monaco:20180128T230000
DTSTAMP:20260424T133424
CREATED:20180110T084542Z
LAST-MODIFIED:20180110T084542Z
UID:100388-1517173200-1517180400@www.hellomonaco.ru
SUMMARY:Футбольный матч Лиги 1. "Олимпик Марсель" - "Монако"
DESCRIPTION:28 января в 21:00 состоится матч Лиги 1. Клуб «Монако» встретится с футболистами из команды «Олимпик Марсель» на стадионе Велодром (Марсель). \nПожелаем удачи монегаскам!
URL:https://www.hellomonaco.ru/event/futbolnyiy-match-ligi-1-olimpik-marsel-monako/
ATTACH;FMTTYPE=image/jpeg:https://www.hellomonaco.ru/wp-content/uploads/2018/01/olimpik-marsel-monako.jpg
END:VEVENT
END:VCALENDAR