BEGIN:VCALENDAR
VERSION:2.0
PRODID:-//HelloMonaco.ru - ECPv6.0.10//NONSGML v1.0//EN
CALSCALE:GREGORIAN
METHOD:PUBLISH
X-WR-CALNAME:HelloMonaco.ru
X-ORIGINAL-URL:https://www.hellomonaco.ru
X-WR-CALDESC:Мероприятия для HelloMonaco.ru
REFRESH-INTERVAL;VALUE=DURATION:PT1H
X-Robots-Tag:noindex
X-PUBLISHED-TTL:PT1H
BEGIN:VTIMEZONE
TZID:Europe/Monaco
BEGIN:DAYLIGHT
TZOFFSETFROM:+0100
TZOFFSETTO:+0200
TZNAME:CEST
DTSTART:20170326T010000
END:DAYLIGHT
BEGIN:STANDARD
TZOFFSETFROM:+0200
TZOFFSETTO:+0100
TZNAME:CET
DTSTART:20171029T010000
END:STANDARD
BEGIN:DAYLIGHT
TZOFFSETFROM:+0100
TZOFFSETTO:+0200
TZNAME:CEST
DTSTART:20180325T010000
END:DAYLIGHT
BEGIN:STANDARD
TZOFFSETFROM:+0200
TZOFFSETTO:+0100
TZNAME:CET
DTSTART:20181028T010000
END:STANDARD
END:VTIMEZONE
BEGIN:VEVENT
DTSTART;VALUE=DATE:20171202
DTEND;VALUE=DATE:20180313
DTSTAMP:20260424T184116
CREATED:20171121T203250Z
LAST-MODIFIED:20171121T203250Z
UID:100346-1512183600-1520823599@www.hellomonaco.ru
SUMMARY:Каток под открытым небом
DESCRIPTION:Со 2 декабря 2017 года по 11 марта 2018 года в порту Монако открывается каток под открытым небом.\nПо соседству с Рождественской деревней у вас будет возможность посетить каток площадью 1000 м 2\, который будет работать почти до середины марта – так что у каждого будет возможность покататься вдоволь. А 24 февраля на катке в Порту Эркюль пройдет Чемпионат Монако по фигурному катанию. Не пропустите! \nДля маленьких посетителей будет организована специальная зона (маленький каток). Вход для детей младше 5 лет на каток бесплатный. Доступ без коньков также предлагается бесплатно для родителей\, которые сопровождают своих детей. \nРазовый тариф – 6\,70 евро\nСезонный тариф (только для школьников и студентов\, проживающих в Монако или обучающихся в учебных заведениях Княжества) – 12 евро. Цена на картинг также стартует от 10 евро. \nПодробное расписание можно узнать на сайте. \nФото: tonkosti.ru
URL:https://www.hellomonaco.ru/event/katok-pod-otkryityim-nebom-2/
LOCATION:Port of Monaco
ATTACH;FMTTYPE=image/jpeg:https://www.hellomonaco.ru/wp-content/uploads/2017/11/Katok_v_Monte-Karlo-1.jpg
END:VEVENT
BEGIN:VEVENT
DTSTART;VALUE=DATE:20171216
DTEND;VALUE=DATE:20180320
DTSTAMP:20260424T184116
CREATED:20171213T185344Z
LAST-MODIFIED:20171213T185344Z
UID:100352-1513393200-1521428399@www.hellomonaco.ru
SUMMARY:Выставка Мишеля Блази в Новом музее
DESCRIPTION:С 16 декабря 2017 года по 18 марта 2018 года в Новом Национальном музее Монако (Вилла Саубер) пройдет выставка Мишеля Блази. \nЭто новая монументальная работа Мишеля Блази под названием «Collection de Chaussures» (2015-2017)\, выпущенная совместно Новым музеем и Департаментом культуры Монако для Венецианского биеннале. \nКоллекция состоит из металлической структуры в виде рамы\, внутри которой рассеивается источник света и подаётся вода. Все это  служит пищей для разных видов растений\, растущих в 27 паре изношенной обуви.\nВ двух других комнатах представлены работы Мишеля Блази из коллекций Peau de Bête (2011) и Nature Molle (2004)\, которые будут впервые представлены в Монако. \nМишель Блази\, родившийся в Монако\, приобрел международную известность благодаря своим инсталляциям\, объединяющим живые материалы.
URL:https://www.hellomonaco.ru/event/vyistavka-mishelya-blazi-v-novom-muzee/
LOCATION:Villa Sauber\, 17\, avenue Princesse Grace\, Monaco
ATTACH;FMTTYPE=image/jpeg:https://www.hellomonaco.ru/wp-content/uploads/2017/12/michel-blazy-collection-de-chaussures-2015-installation-galerie-art-concept-paris-tableau.jpg
END:VEVENT
BEGIN:VEVENT
DTSTART;VALUE=DATE:20180104
DTEND;VALUE=DATE:20180312
DTSTAMP:20260424T184116
CREATED:20180111T120431Z
LAST-MODIFIED:20180111T120431Z
UID:100415-1515034800-1520737199@www.hellomonaco.ru
SUMMARY:Выставка автомобилей Bugatti
DESCRIPTION:До 10 марта музей\, в котором представлена личная коллекция автомобилей князя Монако\, принимает выставку машин легендарной марки Bugatti. \nПомимо красивых и мощных старинных моделей\, принадлежащих правителю Монако и расположенных на террасах Фонвьей\, посетители выставки могут увидеть порядка 15 авто знаменитого французского производителя\, которые были самыми быстрыми машинами своего времени. \nАвтомобили Bugatti\, как говорят\, являются самыми изящными транспортными средствами. Даже сегодня некоторые современные автомобили не могут конкурировать с этими легендами автомобильного мира. Так\, уже в 1930 году модель 43 с ее 8 цилиндрами достигла скорости 180 км/ч. Такого показателя все еще не могут достичь некоторые современные модели. \nДля Этторе Бугатти все в автомобиле должно было быть красивым\, даже под капотом все ровно\, аккуратно и приятно для глаз. Производство Bugatti было остановлено после смерти Этторе в 1947 году. В 1990-х его запустили снова\, создав модель EB110\, которая также представлена на этой удивительной выставке в Монако и которой вы можете полюбоваться на террасах Фонвьей. \nКнязь Альбер II продолжает добавлять модели к частной коллекции\, которую начал собирать его отец. Князь Ренье III любил красивые автомобили и собирал их на протяжении более 40 лет. Выставка пестрит престижными авто и представляет несколько уникальных машин\, которые дороги княжеской семье по личным причинам и от того имеют еще больший вес. Среди марок представленных автомобилей вы увидите Bugatti\, Rolls Royce\, Ferrari\, Maserati\, Lexus с княжеской свадьбы 2011 года\, а также гоночные автомобили с соревнований Ралли Монте-Карло и Гран-при Формулы 1. Все эти захватывающие дух автомобили занимают собой выставочное пространство в 5 000 кв.м.
URL:https://www.hellomonaco.ru/event/vyistavka-avtomobiley-bugatti/
LOCATION:Terrasses de Fontvieille\, Avenue Albert II\, Monaco\, Monaco
ATTACH;FMTTYPE=image/jpeg:https://www.hellomonaco.ru/wp-content/uploads/2018/01/bugatti3-1-1.jpg
END:VEVENT
BEGIN:VEVENT
DTSTART;VALUE=DATE:20180131
DTEND;VALUE=DATE:20180209
DTSTAMP:20260424T184116
CREATED:20180116T082502Z
LAST-MODIFIED:20180116T082502Z
UID:100443-1517367600-1518058799@www.hellomonaco.ru
SUMMARY:Историческое ралли Монте-Карло-2018
DESCRIPTION:C 31 января по 7 февраля в гоночной столице состоится 21-е Rallye Monte-Carlo Historique. \nОно соберёт фанатов гонок\, инженеров\, механиков и пилотов\, которые заполнят отели и кафе в ожидании состязаний. Ралли завершится вручением призов на гала — вечере. \nИсторическое ралли Монте-Карло — это своеобразный виток спирали во времени\, так как в нем участвуют только те автомобили\, которые уже когда-то принимали участие в гонках. Если быть точными — не те самые\, а такие же марки и модели. Началось все в конце 90-х годов прошлого века. После одной из традиционных выставок винтажных авто и как раз перед началом современного ралли\, к организаторам подошли владельцы этих раритетов и предложили организовать ралли для ретроавтомобилей. \nУсловия этой гонки просты: едут только те авто\, что уже участвовали в период с 1955 года по 1980 годы\, и маршрут проходит по тем же самым дорогам. \nПодробности программы и маршруты заездов вы можете найти на сайте организатора — Автомобильного клуба Монако.
URL:https://www.hellomonaco.ru/event/istoricheskoe-ralli-monte-karlo-2018/
ATTACH;FMTTYPE=image/jpeg:https://www.hellomonaco.ru/wp-content/uploads/2017/12/Visuel_RMCH2018_web-683x1024-1.jpg
END:VEVENT
BEGIN:VEVENT
DTSTART;VALUE=DATE:20180207
DTEND;VALUE=DATE:20180209
DTSTAMP:20260424T184116
CREATED:20180129T142916Z
LAST-MODIFIED:20180129T142916Z
UID:100508-1517972400-1518058799@www.hellomonaco.ru
SUMMARY:Экономический симпозиум "La Belle Classe Superyachts"
DESCRIPTION:7 февраля в Яхт-клубе Монако пройдет Экономический симпозиум «La Belle Classe Superyachts».
URL:https://www.hellomonaco.ru/event/ekonomicheskiy-simpozium-la-belle-classe-superyachts/
LOCATION:Яхт-клуб Монако\, Quai Louis II\, 98000
ATTACH;FMTTYPE=image/jpeg:https://www.hellomonaco.ru/wp-content/uploads/2017/03/regata-4.jpg
END:VEVENT
BEGIN:VEVENT
DTSTART;TZID=Europe/Monaco:20180207T180000
DTEND;TZID=Europe/Monaco:20180207T200000
DTSTAMP:20260424T184116
CREATED:20180130T083519Z
LAST-MODIFIED:20180130T083519Z
UID:100513-1518026400-1518033600@www.hellomonaco.ru
SUMMARY:Лекция на тему "Школа Ниццы"
DESCRIPTION:7 февраля в Библиотеке Луи Нотари пройдет лекция на тему «Школа Ниццы» с искусствоведом Фредериком  Альтманом. \nШкола Ниццы — художественное направление\, созданное по инициативе трех художников- Ива Кляйна\, Армана и Клода Паскаля. \nПосле лекции состоится предварительный просмотр выставки «Школа Ниццы в коллекциях наследия». \nНачало в 18:00.
URL:https://www.hellomonaco.ru/event/lektsiya-na-temu-shkola-nitstsyi/
LOCATION:Bibliothèque Louis Notari/Библиотека Луи Нотари\, 8 Rue Louis Notari\, 98000 \, Monaco
ATTACH;FMTTYPE=image/jpeg:https://www.hellomonaco.ru/wp-content/uploads/2018/01/1303071-1713099.jpg
END:VEVENT
BEGIN:VEVENT
DTSTART;TZID=Europe/Monaco:20180207T200000
DTEND;TZID=Europe/Monaco:20180207T220000
DTSTAMP:20260424T184116
CREATED:20180130T085648Z
LAST-MODIFIED:20180130T085648Z
UID:100515-1518033600-1518040800@www.hellomonaco.ru
SUMMARY:Лекция «Религиозный символизм»
DESCRIPTION:7 февраля в церкви Saint-Charles состоится лекция в рамках цикла по религиозному искусству на тему «Религиозный символизм». Мероприятие пройдет при участии священника отца Алена Гину. \nВремя лекции — с 20:00 до 22:00.
URL:https://www.hellomonaco.ru/event/lektsiya-religioznyiy-simvolizm/
LOCATION:Eglise Saint-Charles
ATTACH;FMTTYPE=image/jpeg:https://www.hellomonaco.ru/wp-content/uploads/2017/10/635682_gallery.world_-1.jpg
END:VEVENT
BEGIN:VEVENT
DTSTART;TZID=Europe/Monaco:20180207T203000
DTEND;TZID=Europe/Monaco:20180207T223000
DTSTAMP:20260424T184116
CREATED:20180130T092044Z
LAST-MODIFIED:20180130T092044Z
UID:100516-1518035400-1518042600@www.hellomonaco.ru
SUMMARY:Концерт\, организованный Ассоциацией Monaco Jazz Chorus
DESCRIPTION:7 февраля в Театре варьете состоится концерт\, организованный Ассоциацией Monaco Jazz Chorus. \nЭто ежегодное мероприятие\, направленное на продвижение джазовой культуры в княжестве и оказание помощи артистам из Монако и ближайших регионов в организации выступлений. \nНачало в 20:30.
URL:https://www.hellomonaco.ru/event/kontsert-organizovannyiy-assotsiatsiey-monaco-jazz-chorus/
LOCATION:Театр Варьете\, 1 Boulevard Albert 1er 98000 \, Monaco
ATTACH;FMTTYPE=image/jpeg:https://www.hellomonaco.ru/wp-content/uploads/2018/01/Screenshot_5.jpg
END:VEVENT
END:VCALENDAR