BEGIN:VCALENDAR
VERSION:2.0
PRODID:-//HelloMonaco.ru - ECPv6.0.10//NONSGML v1.0//EN
CALSCALE:GREGORIAN
METHOD:PUBLISH
X-ORIGINAL-URL:https://www.hellomonaco.ru
X-WR-CALDESC:Мероприятия для HelloMonaco.ru
REFRESH-INTERVAL;VALUE=DURATION:PT1H
X-Robots-Tag:noindex
X-PUBLISHED-TTL:PT1H
BEGIN:VTIMEZONE
TZID:Europe/Monaco
BEGIN:DAYLIGHT
TZOFFSETFROM:+0100
TZOFFSETTO:+0200
TZNAME:CEST
DTSTART:20210328T010000
END:DAYLIGHT
BEGIN:STANDARD
TZOFFSETFROM:+0200
TZOFFSETTO:+0100
TZNAME:CET
DTSTART:20211031T010000
END:STANDARD
END:VTIMEZONE
BEGIN:VEVENT
DTSTART;VALUE=DATE:20210219
DTEND;VALUE=DATE:20211005
DTSTAMP:20260424T053551
CREATED:20210202T071119Z
LAST-MODIFIED:20210202T071119Z
UID:124099-1613703600-1633316399@www.hellomonaco.ru
SUMMARY:Выставка "Шимабуку. 165-метровая русалка и другие истории"
DESCRIPTION:С 19 февраля по 3 октября на Вилле Палома Нового Национального музея Монако пройдёт выставка японского художника Шимабуку «165-метровая русалка и другие истории»\, которая рассказывает о приключениях художника по всему миру\, от его родной Японии до Княжества Монако через Бразилию\, Австралию и многие другие страны. \nВо время посещения Фукуоки он узнал легенду о русалке\, длина тела которой составляла 165 метров\, и решил сделать эту историю частью своего искусства. Приобретённая в 2018 году Новым Национальным музеем Монако инсталляция «Я путешествую с 165-метровой русалкой»\, является отправной точкой для выставки и обогащена присутствием артефактов\, произведённых в Монако разными мастерами\, приглашёнными\, в свою очередь\, превратить эту историю в собственное произведение. \nПодробнее о выставке на сайте и в нашем материале.
URL:https://www.hellomonaco.ru/event/vystavka-shimabuku-165-metrovaya-rusalka-i-drugie-istorii-2/
ATTACH;FMTTYPE=image/jpeg:https://www.hellomonaco.ru/wp-content/uploads/2020/10/unnamed-2-780x470-1.jpg
END:VEVENT
BEGIN:VEVENT
DTSTART;VALUE=DATE:20210313
DTEND;VALUE=DATE:20210413
DTSTAMP:20260424T053551
CREATED:20210224T105752Z
LAST-MODIFIED:20210224T105752Z
UID:124559-1615604400-1618196399@www.hellomonaco.ru
SUMMARY:Весенний Фестиваль Искусств в Монте-Карло 2021
DESCRIPTION:С 13 марта по 11 апреля в Монако пройдёт Весенний Фестиваль Искусств в Монте-Карло 2021 (Printemps des Arts de Monte-Carlo). \nФестиваль под патронажем принцессы Ганноверской – знаковое мероприятие для культурной программы Монако. Его идея зародилась 37 лет назад из желания князя Ренье III сделать княжество главным местом встречи легендарных мастеров и законодателей музыкального искусства. \nФестиваль будет радовать нас целый месяц. Филармонический оркестр Монте-Карло и другие музыкальные ансамбли будут выступать на самых престижных площадках княжества. Одной из основных тем фестиваля станет «Музыка Второй Венской Школы»\, процветавшей в первой половине XX века. Зритель услышит серию мастерских интерпретаций произведений таких композиторов\, как Антон Веберн\, Альбан Берг\, Арнольд Шенберг. Музыкальные произведения будут исполняться под руководством самых опытных дирижеров: Даниэле Гатти\, Маттиаса Пинчера\, Франсуа-Ксавье Рота и Казуки Ямады. Своё мастерство также продемонстрируют квартеты Землинского и Тана. \nДля получения дополнительной информации о Фестивале и приобретении билетов\, пожалуйста\, посетите веб-сайт: www.printempsdesarts.mc
URL:https://www.hellomonaco.ru/event/vesennij-festival-iskusstv-v-monte-karlo-2021/
ATTACH;FMTTYPE=image/jpeg:https://www.hellomonaco.ru/wp-content/uploads/2021/02/Screenshot_2.jpg
END:VEVENT
BEGIN:VEVENT
DTSTART;TZID=Europe/Monaco:20210331T100000
DTEND;TZID=Europe/Monaco:20210331T120000
DTSTAMP:20260424T053551
CREATED:20210312T160124Z
LAST-MODIFIED:20210312T160124Z
UID:124861-1617184800-1617192000@www.hellomonaco.ru
SUMMARY:Богослужение в Православном приходе Монако
DESCRIPTION:Православный приход Святых Царственных Мучеников в Монако ждёт вас в марте на богослужениях\, посвящённых: \n31 марта/ среда/ 10:00/ Свт. Кирилла\, архиепископа Иерусалимского. Вечерня. Литургия Преждеосвященных Даров. \n  \nБогослужения проходят по адресу: Église Réformée\, 7 Rue Louis Notari\, 98000\, Monaco \nУбедительная просьба протоиерея Вадима Закревского ко всем желающим исповедоваться — приходить обязательно к началу службы\, не позже 9:30. А к причастию могут подходить только те\, кто предварительно исповедовался! \nПросим вас соблюдать социальную дистанцию\, использовать медицинскую маску и другие меры безопасности во время нахождения в храме. \n+377 640 62 68 54\nwww.ruscerkovmonaco.org\nparoisse@ruscerkovmonaco.org
URL:https://www.hellomonaco.ru/event/bogosluzhenie-v-pravoslavnom-prihode-monako-123/
ATTACH;FMTTYPE=image/jpeg:https://www.hellomonaco.ru/wp-content/uploads/2020/10/Screenshot_1-1.jpg
END:VEVENT
BEGIN:VEVENT
DTSTART;TZID=Europe/Monaco:20210331T150000
DTEND;TZID=Europe/Monaco:20210331T160000
DTSTAMP:20260424T053551
CREATED:20210322T130516Z
LAST-MODIFIED:20210322T130516Z
UID:125046-1617202800-1617206400@www.hellomonaco.ru
SUMMARY:Симфонический концерт для юной аудитории
DESCRIPTION:31 марта в Аудитории Ренье III состоится симфонический концерт для юной аудитории в исполнении Филармонического оркестра Монте-Карло под управлением Кристофа Мангу\, в сопровождении рассказчика Жюли Мартиньи. \nНачало в 15:00. \nСтоимость билетов — 5 евро\, приобрести их можно на сайте.
URL:https://www.hellomonaco.ru/event/simfonicheskij-kontsert-dlya-yunoj-auditorii-4/
LOCATION:Auditorium Rainier III\, Monaco
ATTACH;FMTTYPE=image/jpeg:https://www.hellomonaco.ru/wp-content/uploads/2021/03/Christophe-Mangou-c-Jean-Baptiste-Millot.jpg
END:VEVENT
END:VCALENDAR