BEGIN:VCALENDAR
VERSION:2.0
PRODID:-//HelloMonaco.ru - ECPv6.0.10//NONSGML v1.0//EN
CALSCALE:GREGORIAN
METHOD:PUBLISH
X-WR-CALNAME:HelloMonaco.ru
X-ORIGINAL-URL:https://www.hellomonaco.ru
X-WR-CALDESC:Мероприятия для HelloMonaco.ru
REFRESH-INTERVAL;VALUE=DURATION:PT1H
X-Robots-Tag:noindex
X-PUBLISHED-TTL:PT1H
BEGIN:VTIMEZONE
TZID:Europe/Monaco
BEGIN:DAYLIGHT
TZOFFSETFROM:+0100
TZOFFSETTO:+0200
TZNAME:CEST
DTSTART:20210328T010000
END:DAYLIGHT
BEGIN:STANDARD
TZOFFSETFROM:+0200
TZOFFSETTO:+0100
TZNAME:CET
DTSTART:20211031T010000
END:STANDARD
END:VTIMEZONE
BEGIN:VEVENT
DTSTART;VALUE=DATE:20210219
DTEND;VALUE=DATE:20211005
DTSTAMP:20260421T102443
CREATED:20210202T071119Z
LAST-MODIFIED:20210202T071119Z
UID:124099-1613703600-1633316399@www.hellomonaco.ru
SUMMARY:Выставка "Шимабуку. 165-метровая русалка и другие истории"
DESCRIPTION:С 19 февраля по 3 октября на Вилле Палома Нового Национального музея Монако пройдёт выставка японского художника Шимабуку «165-метровая русалка и другие истории»\, которая рассказывает о приключениях художника по всему миру\, от его родной Японии до Княжества Монако через Бразилию\, Австралию и многие другие страны. \nВо время посещения Фукуоки он узнал легенду о русалке\, длина тела которой составляла 165 метров\, и решил сделать эту историю частью своего искусства. Приобретённая в 2018 году Новым Национальным музеем Монако инсталляция «Я путешествую с 165-метровой русалкой»\, является отправной точкой для выставки и обогащена присутствием артефактов\, произведённых в Монако разными мастерами\, приглашёнными\, в свою очередь\, превратить эту историю в собственное произведение. \nПодробнее о выставке на сайте и в нашем материале.
URL:https://www.hellomonaco.ru/event/vystavka-shimabuku-165-metrovaya-rusalka-i-drugie-istorii-2/
ATTACH;FMTTYPE=image/jpeg:https://www.hellomonaco.ru/wp-content/uploads/2020/10/unnamed-2-780x470-1.jpg
END:VEVENT
BEGIN:VEVENT
DTSTART;VALUE=DATE:20210401
DTEND;VALUE=DATE:20210907
DTSTAMP:20260421T102443
CREATED:20210325T072930Z
LAST-MODIFIED:20210325T072930Z
UID:125108-1617246000-1630897199@www.hellomonaco.ru
SUMMARY:Выставка "Маргиналии: внутри коллекций комиксов"
DESCRIPTION:С 1 апреля по 5 сентября в Новом Национальном музее Монако (NMNM-Villa Sauber) пройдёт выставка «Маргиналии: внутри коллекций комиксов». \nМаргиналии — это небольшие рисунки\, расположенные на полях средневековых рукописей. Часто светские\, иногда забавные\, но всегда увлекательные\, они образуют диалог с текстами\, которые они освещают\, объясняют или критикуют\, и могут рассматриваться как истоки комиксов. \nВыставка будет сопровождаться весёлым изданием (выпущенным совместно NMNM и Glénat)\, которое намерено совместить удовольствие от чтения комиксов с требованиями соответствующего научного подхода. \nИзображение\, выбранное для обложки каталога\, а также афиша\, рекламирующая выставку\, были нарисованы специально для выставки авангардным карикатуристом Герром Зееле (Herr Seele): как подмигивание\, полное озорства при встрече классической живописи с комиксами. \n \nПосетители смогут открыть для себя более 350 работ самых известных художников комиксов. \nПодробности на сайте музея.
URL:https://www.hellomonaco.ru/event/vystavka-marginalii-vnutri-kollektsij-komiksov/
LOCATION:Villa Sauber\, 17\, avenue Princesse Grace\, Monaco
ATTACH;FMTTYPE=image/jpeg:https://www.hellomonaco.ru/wp-content/uploads/2021/03/Screenshot_1-2.jpg
END:VEVENT
BEGIN:VEVENT
DTSTART;TZID=Europe/Monaco:20210403T080000
DTEND;TZID=Europe/Monaco:20210611T170000
DTSTAMP:20260421T102443
CREATED:20210418T083525Z
LAST-MODIFIED:20210425T081718Z
UID:125578-1617436800-1623430800@www.hellomonaco.ru
SUMMARY:Фестиваль Côte d´Azur Garden
DESCRIPTION:Фестиваль Côte d´Azur Garden пройдёт с 9 мая по 11 июня\, однако Департамент городского планирования решил установить своё творение “Отражение воды в голубой бесконечности” и разрешить публике любоваться им уже с 3 апреля на террасах Казино (сторона Fairmont).
URL:https://www.hellomonaco.ru/event/festival-cote-d-azur-garden/
ATTACH;FMTTYPE=image/jpeg:https://www.hellomonaco.ru/wp-content/uploads/2021/04/DAU-Festival-Jardins-Co-te-dAzur-Direction-de-la-Communication-Michael-Alesi.jpg
END:VEVENT
BEGIN:VEVENT
DTSTART;TZID=Europe/Monaco:20210510T120000
DTEND;TZID=Europe/Monaco:20210510T180000
DTSTAMP:20260421T102443
CREATED:20201128T093733Z
LAST-MODIFIED:20210515T045824Z
UID:122673-1620648000-1620669600@www.hellomonaco.ru
SUMMARY:Первый гала-концерт Maria Callas Monaco Gala & Awards 2021
DESCRIPTION:10 мая в великолепном Salle Empire в Hotel de Paris пройдёт первый гала-концерт Maria Callas Monaco Gala & Awards 2021. \nМероприятие организовано под эгидой греческой общины Монако. Его концепция — это «возрождение мифа» о первом легендарном гала-концерте\, состоявшемся в 1960 году в Опере Монте-Карло\, когда оперная дива Мария Каллас пела перед своими любимыми друзьями\, князем Ренье III и принцессой Грейс. \n \nПредстоящий гала-концерт Maria Callas Monaco Gala включит оперный концерт с участием известных музыкантов Елены Кужелевой (сопрано) и Романа Лопатинского (фортепиано)\, а также церемонии награждения выдающихся личностей из разных областей\, таких как музыка\, благотворительность\, медицина и спорт. \nГала-концерт будет сопровождаться изысканным обедом и коктейлем\, выставкой современного искусства художественной галереи Yellow Korner Monaco и фэшн-показом от лучших дизайнеров. В конце гала-концерта все гости получат уникальный ювелирный подарок ручной работы\, который знаменитый ювелирный дизайнер и художник Xaris Apergi разработала специально для Maria Callas Monaco Gala & Awards 2021. \nНачало в 12:15. \nБилеты и VIP-приглашения: artief@otenet.gr
URL:https://www.hellomonaco.ru/event/pervyj-gala-kontsert-maria-callas-monaco-gala-awards-2021/
LOCATION:Hôtel de Paris\, Place du Casino\,98000 Monaco\, Monaco
ATTACH;FMTTYPE=image/jpeg:https://www.hellomonaco.ru/wp-content/uploads/2020/11/Screenshot_4.jpg
END:VEVENT
END:VCALENDAR