BEGIN:VCALENDAR
VERSION:2.0
PRODID:-//HelloMonaco.ru - ECPv6.0.10//NONSGML v1.0//EN
CALSCALE:GREGORIAN
METHOD:PUBLISH
X-ORIGINAL-URL:https://www.hellomonaco.ru
X-WR-CALDESC:Мероприятия для HelloMonaco.ru
REFRESH-INTERVAL;VALUE=DURATION:PT1H
X-Robots-Tag:noindex
X-PUBLISHED-TTL:PT1H
BEGIN:VTIMEZONE
TZID:Europe/Monaco
BEGIN:DAYLIGHT
TZOFFSETFROM:+0100
TZOFFSETTO:+0200
TZNAME:CEST
DTSTART:20210328T010000
END:DAYLIGHT
BEGIN:STANDARD
TZOFFSETFROM:+0200
TZOFFSETTO:+0100
TZNAME:CET
DTSTART:20211031T010000
END:STANDARD
BEGIN:DAYLIGHT
TZOFFSETFROM:+0100
TZOFFSETTO:+0200
TZNAME:CEST
DTSTART:20220327T010000
END:DAYLIGHT
BEGIN:STANDARD
TZOFFSETFROM:+0200
TZOFFSETTO:+0100
TZNAME:CET
DTSTART:20221030T010000
END:STANDARD
END:VTIMEZONE
BEGIN:VEVENT
DTSTART;VALUE=DATE:20211015
DTEND;VALUE=DATE:20220104
DTSTAMP:20260419T211638
CREATED:20211022T070406Z
LAST-MODIFIED:20211022T070406Z
UID:129882-1634266800-1641178799@www.hellomonaco.ru
SUMMARY:Выставка\, посвящённая расширению границ Монако и мелиорации земель
DESCRIPTION:Управление по делам культуры Монако организует с 15 октября по 2 января 2022 года выставку\, посвящённую расширению границ Монако и мелиорации земель в целом. Экспозиция разместится в выставочном зале на набережной Антуана I. \nНовая выставка приглашает посетителей исследовать геополитические\, социальные\, городские\, технические и экологические аспекты\, а также познакомиться с реальными человеческими историями. С этой целью будет представлена большая коллекция картографических\, фотографических и аудиовизуальных архивов\, а также различные планы и модели. Кроме того\, организаторы выставки опросили ряд экспертов\, стоящих за проектами по мелиорации земель\, и тех\, кто сегодня использует эти «новые земли»\, чтобы получить их личные впечатления.
URL:https://www.hellomonaco.ru/event/vystavka-posvyashhyonnaya-rasshireniyu-granits-monako-i-melioratsii-zemel/
ATTACH;FMTTYPE=image/png:https://www.hellomonaco.ru/wp-content/uploads/2021/10/Snimok-ekrana-2021-10-20-v-10.48.52.png
END:VEVENT
BEGIN:VEVENT
DTSTART;VALUE=DATE:20211113
DTEND;VALUE=DATE:20211130
DTSTAMP:20260419T211638
CREATED:20211024T171227Z
LAST-MODIFIED:20211024T171227Z
UID:129934-1636772400-1638154799@www.hellomonaco.ru
SUMMARY:Чемпионат Монако по электрокартингу
DESCRIPTION:С 13 по 28 ноября в княжестве состоится Чемпионат по электрокартингу. \n300 претендентов (максимум 100 в каждой категории) будут допущены к участию в соревнованиях в категориях Mini\, Junior и Senior.
URL:https://www.hellomonaco.ru/event/chempionat-monako-po-elektrokartingu/
ATTACH;FMTTYPE=image/jpeg:https://www.hellomonaco.ru/wp-content/uploads/2021/10/01-Monaco-E-Kart-Championship-2022-Photo-JP-Photography.jpg
END:VEVENT
BEGIN:VEVENT
DTSTART;VALUE=DATE:20211113
DTEND;VALUE=DATE:20211207
DTSTAMP:20260419T211638
CREATED:20211116T100720Z
LAST-MODIFIED:20211116T101351Z
UID:130456-1636772400-1638759599@www.hellomonaco.ru
SUMMARY:Фотовыставка «Самая Красивая Страна» от Русского географического общества
DESCRIPTION:Фонд князя Альбера II и Русское географическое общество представляют фотовыставку «Россия — самая красивая страна» в садах Святого Мартина в Монако до 5 декабря 2021 года. \nЭкспозиция состоит из 23 крупноформатных фотографий конкурса Русского географического общества «Самая красивая страна»\, масштабного проекта\, объединяющего работы тысяч фотографов каждый год. Экологический конкурс\, начатый в 2015 году\, призван подчеркнуть красоту природы и богатство биоразнообразия России\, а также повысить осведомлённость об уважении к Планете через искусство фотографии. \nДанная выставка создана в сотрудничестве с Департаментом культуры и Департаментом градостроительства Монако.
URL:https://www.hellomonaco.ru/event/fotovystavka-samaya-krasivaya-strana-ot-russkogo-geograficheskogo-obshhestva/
ATTACH;FMTTYPE=image/jpeg:https://www.hellomonaco.ru/wp-content/uploads/2021/11/Screenshot_3-1.jpg
END:VEVENT
BEGIN:VEVENT
DTSTART;VALUE=DATE:20211121
DTEND;VALUE=DATE:20211201
DTSTAMP:20260419T211638
CREATED:20211118T093209Z
LAST-MODIFIED:20211118T093720Z
UID:130500-1637463600-1638241199@www.hellomonaco.ru
SUMMARY:Европейская неделя по сокращению отходов
DESCRIPTION:С 21 по 29 ноября Монако вновь присоединяется к Европейской неделе по сокращению отходов (SERD). Тема этого выпуска — «Устойчивые сообщества». \nЭта инициатива призывает страны-добровольцы\, в том числе Княжество Монако\, содействовать проведению информационно-пропагандистских мероприятий по устойчивому управлению ресурсами и отходами. \nНа протяжении целой недели Океанографический музей и мэрия Монако организуют ряд мероприятий\, связанных с защитой окружающей среды.  \nВ течение всей недели\n«1 день\, 1 шеф-повар\, 1 рецепт» — 5 известных шеф-поваров сменят друг друга с 22 по 26 ноября\, с 11:00 до 13:30\, чтобы предложить посетителям экологически ответственный кофе-брейк по рецептам «без отходов»\, которые можно попробовать с помощью съедобных столовых приборов! Участие входит в цену входного билета в Океанографический музей.\nКонтакты: s.gobbi@oceano.org\nТелефон: + 377 93 15 36 01\nAvenue Saint Martin\, 98000\, Monte-Carlo\, Monaco \n \nС 22 по 28 ноября Океанографический музей организует сбор одежды и игрушек в интересах ассоциации Монако «Les Semeurs d’Espoir». \nС 22 по 28 ноября в отеле Columbus Monte-Carlo будет организован пункт сбора мужской и женской деловой одежды для благотворительной организации Cravate Solidaire. Любой желающий пожертвовать предметы одежды может оставить их у консьержа отеля.\nКонтакты: Электронная почта: ufabre@columbus.mc\, +377 92 05 82 42\nInstagram: @columbusmchotel\, Facebook: @Columbusmontecarlo\nАдрес: 23 AVENUE DES PAPALINS\, MC 98000 МОНАКО \nОбмен книгами с помощью Aux Livres Citoyens! Бесплатная общественная библиотека\, предлагаемая Monakoffé. Теперь вы можете добавить свои книги на наши полки в обмен на новые! Поделитесь ими со своими друзьями\, семьей и коллегами!\nДля получения дополнительной информации см.: Aux livres Citoyens!\nСкачайте приложение Livres de Proches и поделитесь радостью чтения!\nКонтакты: +377 93 25 24 17\nmonakoffe@monaco.mc\n5 Rue du Castelleretto 98000 Монако (1-й этаж) \nВыставка «Plaidoyer pour la Terre» (Защита Земли). Художница Жозефина Дионизотти представляет серию картин\, призванных просвещать и информировать посетителей о различных экологических проблемах.\nЦифровая выставка в Star’n’Bars\, набережная Антуана I\, 6\nFacebook: @SERDMonaco \nВидео «Монако борется с отходами»: Stars’n’Bars создали 10-минутное видео\, предназначенное для детей 9-11 лет\, в котором отмечается множество позитивных действий\, предпринимаемых Княжеством Монако для сокращения\, повторного использования и переработки отходов.\nТрансляция в Stars’n’Bars (6 Quai Antoine I) и в социальных сетях: Facebook: @starsnbars – @Serdmonaco. \n22 ноября\nДень без мяса.  Приходите и попробуйте выдающиеся вегетарианские блюда в отеле Columbus Monte-Carlo\, а также посмотрите видео с вегетарианскими рецептами и рецептами без отходов в их социальных сетях.\nБронирование: tavolo@columbus.mc\nТелефон: +377 92 05 82 35\nInstagram: @columbusmchotel @tavolomc\nFacebook: @Columbusmontecarlo @tavolomc \n24 ноября\n«Охота за сокровищами без отходов»! В партнёрстве с мэрией Монако Монегасская санитарная компания (SMA) и Департамент городского благоустройства организуют мероприятие на тему сокращения и переработки отходов.\nКонтактная электронная почта: sma@sma.mc\nТелефон: +377 92 05 75 16 \n«Мой перекус с нулевыми отходами»: благотворительная организация Ecopolis предлагает вам шанс стать «героем с нулевыми отходами» с помощью некоторых простых изменений в ваших привычках перекуса. Узнайте\, как избегать переупакованных и индивидуально продаваемых продуктов\, выбирая вместо этого неупакованные продукты и домашние закуски.\nс 14:00 до 18:00 на Place d’Armes\nКонтакты: ecopolis.mc@gmail.com \n«Tout sur ma Mer» (Всё о моём море)\, выступление/лекция эко-активистки Анаэль Маро\, организованная Департаментом окружающей среды в партнёрстве с мэрией Монако.\nАвтобиографическая история искательницы приключений\, которая путешествовала на байдарках и велосипедах по Средиземному морю\, самостоятельно преодолев 1000 километров. Потрясённая количеством пластика\, который она видела повсюду\, она решила открыть для себя море и тех\, кто его защищает: благотворительные организации\, рыбаков\, сёрферов и многих других. Каждое воскресенье она организует группы примерно из 30 человек\, которые выходят на улицу и собирают отходы. Это история\, полная юмора\, смесь холодных фактов (научные данные о состоянии моря и т.д.) и более личных наблюдений (чувства\, анекдоты и т.д.).\n18:30 — Casa d’i Soci\, 2bis Promenade Honoré II\, Monaco\nИнформация и регистрация: environnement@gouv.mc\n+377 98 98 83 41 \nДети в возрасте от 6 до 14 лет приглашаются на конкурс «Супер-сортировщик». У входа в Океанографический музей молодым посетителям будут предложены несколько типов отходов и различные ёмкости для сортировки и изучения передовой практики переработки. Каждому «супер-сортировщику» вручен диплом и подарок. \n«Семинар о нулевых отходах» — Мэрия Монако и благотворительная организация Petits Ecoliers de Monaco проведут семинары для детей в возрасте 6-12 лет по повторному использованию и модификации футболок. Также будет возможность приготовить немного жидкого мыла.\nБудет проведено три занятия\, каждое для 10 детей\, в 14:00\, 15:00 и 16:00 в Парке принцессы Антуанетты.\nДля получения информации и регистрации звоните по телефону 06 80 86 41 52 \n25 ноября\nКонференция «Остановите моду» и «Нет места для отходов»\, организованная Международным фондом защиты животных и R4 Clothing UK.\nВиртуальная конференция из двух частей: узнайте об ущербе\, наносимом планете «быстрой» модой\, и о возможностях нового подхода к устойчивой моде\, а затем выслушайте некоторых студентов\, которые изменили свой образ жизни\, чтобы сократить отходы.\nИнформация и регистрация: info@theanimalfund.net\n18:30 – 19:30. \nРаздача нуждающимся кроссовок\, перчаток\, шляп и шарфов\, организованная мэрией Монако в помощь благотворительному фонду Semeurs d’Espoir.\n1 Place d’Armes\, at La Condamine Market\, с 9:00 до 12:30.\nContact: communication@mairie.mc \n26 ноября\nРаздача нуждающимся кроссовок\, перчаток\, шляп и шарфов\, организованная мэрией Монако в помощь благотворительному фонду Semeurs d’Espoir.\n1 Place d’Armes\, at La Condamine Market\, с 9:00 до 12:30.\nContact: communication@mairie.mc \n27 ноября\nРемонтный марафон Repairathon\, организованный мэрией Монако и Миссией по энергетическому переходу. С помощью добровольцев-энтузиастов DIY ремонтируйте свои вещи\, чтобы они прослужили дольше!\n1 Place d’Armes\, at La Condamine Market\, с 15:30 до 18:30\nКонтакты: communication@mairie.mc \nДети в возрасте от 6 до 14 лет приглашаются на конкурс «Супер-сортировщик». У входа в Океанографический музей молодым посетителям будут предложены несколько типов отходов и различные ёмкости для сортировки и изучения передовой практики переработки. Каждому «супер-сортировщику» вручен диплом и подарок.\nПодробности: s.gobbi@oceano.org\nAvenue Saint Martin\, 98000\, Monte-Carlo\, Monaco\n+ 377 93 15 36 01 \nСеминар повышения осведомлённости о компостировании: мэрия Монако в партнёрстве с SMA приглашает вас узнать больше о компостировании и о том\, насколько это важно\, с объяснениями садовника парка принцессы Антуанетты.\n10:00\, Парк принцессы Антуанетты\nТребуется регистрация\, свяжитесь с jbonnin@mairie.mc
URL:https://www.hellomonaco.ru/event/evropejskaya-nedelya-po-sokrashheniyu-othodov/
ATTACH;FMTTYPE=image/jpeg:https://www.hellomonaco.ru/wp-content/uploads/2021/11/ewwr-1.jpg
END:VEVENT
BEGIN:VEVENT
DTSTART;VALUE=DATE:20211125
DTEND;VALUE=DATE:20211130
DTSTAMP:20260419T211638
CREATED:20211103T094411Z
LAST-MODIFIED:20211103T094411Z
UID:130204-1637809200-1638154799@www.hellomonaco.ru
SUMMARY:Спектакль "Swing Heil"
DESCRIPTION:С 25 по 28 ноября Театр Муз покажет спектакль «Swing Heil». \nГамбург 1938 года\, 17-летний Ричард отказывается участвовать в молодёжном гитлеровском движении. Он предпочитает проводить вечера\, танцуя в кафе «Heinze». Ричард и его друзья тайно живут своей любовью к запретному джазу. \nВсе меняется в тот день\, когда участие в гитлеровском движении становится обязательным… Ему придётся сделать выбор : сотрудничать\, оставаясь верным своей родине\, или восстать\, рискуя своей жизнью… \nНачало: 25\, 26 и 27 ноября в 20:30\, 28 ноября в 16:30. \nСтоимость билетов — 19-29 евро\, приобрести их можно здесь. \nПодробности на сайте. \n 
URL:https://www.hellomonaco.ru/event/spektakl-swing-heil/
LOCATION:Театр Муз\, 45 Boulevard du Jardin Exotique\, 98000\, Monaco
ATTACH;FMTTYPE=image/jpeg:https://www.hellomonaco.ru/wp-content/uploads/2021/11/image-2.jpg
END:VEVENT
BEGIN:VEVENT
DTSTART;VALUE=DATE:20211125
DTEND;VALUE=DATE:20220517
DTSTAMP:20260419T211638
CREATED:20211129T190157Z
LAST-MODIFIED:20211129T190157Z
UID:130899-1637809200-1652669999@www.hellomonaco.ru
SUMMARY:Выставка "Трепет"
DESCRIPTION:С 25 ноября 2021 года по 15 мая 2022 года на Вилле Paloma Нового Национального музея Монако будет представлена выставка «Трепет». \nНа выставке представлена подборка современных работ\, приобретённых Национальным музеем Монако за последние десять лет. От инсталляции «Чужой» южноафриканской художницы Кэндис Брайтц\, поступившей в коллекцию в 2010 году\, до фильма «Белый альбом» американца Артура Джафа\, приобретённого в 2021 году\, выставка объединяет семнадцать художников двенадцати разных национальностей. Всех их объединяет свой ответ и видение на определение «трепетное мышление». \nПодробности на сайте. \n 
URL:https://www.hellomonaco.ru/event/vystavka-trepet/
LOCATION:Villa Paloma\, 56 Boulevard du Jardin Exotique\, 98000 \, Monaco
ATTACH;FMTTYPE=image/jpeg:https://www.hellomonaco.ru/wp-content/uploads/2021/11/015.jpg
END:VEVENT
BEGIN:VEVENT
DTSTART;VALUE=DATE:20211125
DTEND;VALUE=DATE:20220227
DTSTAMP:20260419T211638
CREATED:20211205T174847Z
LAST-MODIFIED:20211205T174847Z
UID:131115-1637809200-1645844399@www.hellomonaco.ru
SUMMARY:Фотовыставка Оливера Анриго "Северный полярный круг"
DESCRIPTION:С 25 ноября и до 25 февраля 2022 года в галерее Espace 22 художник-фотограф Оливер Анриго представляет свои работы в рамках выставки «Северный полярный круг». \nОливер Анриго — профессиональный фотограф\, работающий с новостными агентствами. Несколько лет он работал на агентство Reuters. Оливер\, которого искусству фотографа научил его отец\, несколько раз ходил в экспедиции вокруг света\, уделяя особое внимание вопросам экологии и дикой природы. Это темы\, затрагивающие его до глубины сердца. \nФотографии\, представленные на выставке\, поражают красотой и богатством Арктики\, они являются частью глобального проекта\, направленного на сохранение окружающей среды. \nНаходясь в постоянном контакте с известными учеными\, Оливер путешествует по отдалённым районам Арктики\, чтобы привлечь внимание широкой общественности к последствиям изменения климата таким образом\, чтобы это было одновременно интересно\, познавательно и тонко. \nАдрес галереи Espace 22: 24\, boulevard d’Italie.
URL:https://www.hellomonaco.ru/event/fotovystavka-olivera-anrigo-severnyj-polyarnyj-krug/
ATTACH;FMTTYPE=image/jpeg:https://www.hellomonaco.ru/wp-content/uploads/2021/12/espace-22-site-copy-olivier-anrigo.jpg
END:VEVENT
BEGIN:VEVENT
DTSTART;VALUE=DATE:20211127
DTEND;VALUE=DATE:20211130
DTSTAMP:20260419T211638
CREATED:20211120T173446Z
LAST-MODIFIED:20211120T173446Z
UID:130623-1637982000-1638154799@www.hellomonaco.ru
SUMMARY:Регата Prince Albert II Challenge
DESCRIPTION:Регата Prince Albert II Challenge после перерыва\, связанного с пандемией коронавируса\, возвращается в княжество! Шестнадцатая по счёту регата пройдёт в последние выходные этого месяца 27 и 28 ноября. \nЗа историю этой престижной регаты более пятисот участников из разных уголков мира испытали свои силы в водных видах спорта\, поборолись за ценные денежные призы\, престижные титулы\, и громко заявили о себе на мировой спортивной арене. \n19 команд из 14 стран будут соревноваться в гребле\, применяя все свои силы и сноровку. Непростое испытание принесёт победителям от 1 000 евро до 5 000 евро за призовые места.
URL:https://www.hellomonaco.ru/event/regata-prince-albert-ii-challenge/
ATTACH;FMTTYPE=image/jpeg:https://www.hellomonaco.ru/wp-content/uploads/2021/11/Snimok-ekrana-2021-11-10-v-9.24.35.jpg
END:VEVENT
BEGIN:VEVENT
DTSTART;TZID=Europe/Monaco:20211128T150000
DTEND;TZID=Europe/Monaco:20211128T170000
DTSTAMP:20260419T211638
CREATED:20211125T185053Z
LAST-MODIFIED:20211125T185053Z
UID:130755-1638111600-1638118800@www.hellomonaco.ru
SUMMARY:Футбольный матч Лиги 1. «Монако» — «Страсбург»
DESCRIPTION:28 ноября состоится матч Лиги 1. Клуб «Монако» встретится с футболистами из команды «Страсбург» на стадионе Луи II. Начало в 15:00. \nПожелаем удачи монегаскам!
URL:https://www.hellomonaco.ru/event/futbolnyj-match-ligi-1-monako-strasburg-3/
LOCATION:Stade Louis II\, 7 Avenue des Castelans\,98000 Monaco\, Monaco
ATTACH;FMTTYPE=image/jpeg:https://www.hellomonaco.ru/wp-content/uploads/2021/08/D4S_3297.jpg
END:VEVENT
BEGIN:VEVENT
DTSTART;TZID=Europe/Monaco:20211128T180000
DTEND;TZID=Europe/Monaco:20211128T200000
DTSTAMP:20260419T211638
CREATED:20211026T162858Z
LAST-MODIFIED:20211026T162947Z
UID:130038-1638122400-1638129600@www.hellomonaco.ru
SUMMARY:Симфонический концерт
DESCRIPTION:28 ноября в Аудиториуме Ренье III состоится симфонический концерт\, посвящённый 100-летию смерти князя Монако Альбера I. \nПрозвучат произведения Шарля Гуно\, Сезара Франка и  Камиля Сен-Санса. \nНачало в 18:00. \nСтоимость билетов — 6-36 евро\, приобрести их можно здесь. \nПодробности на сайте. \n 
URL:https://www.hellomonaco.ru/event/simfonicheskij-kontsert-2/
LOCATION:Auditorium Rainier III\, Monaco
ATTACH;FMTTYPE=image/jpeg:https://www.hellomonaco.ru/wp-content/uploads/2021/10/kazuki-yamada-jc-vinaj-opmc-1.jpg
END:VEVENT
END:VCALENDAR