BEGIN:VCALENDAR
VERSION:2.0
PRODID:-//HelloMonaco.ru - ECPv6.0.10//NONSGML v1.0//EN
CALSCALE:GREGORIAN
METHOD:PUBLISH
X-WR-CALNAME:HelloMonaco.ru
X-ORIGINAL-URL:https://www.hellomonaco.ru
X-WR-CALDESC:Мероприятия для HelloMonaco.ru
REFRESH-INTERVAL;VALUE=DURATION:PT1H
X-Robots-Tag:noindex
X-PUBLISHED-TTL:PT1H
BEGIN:VTIMEZONE
TZID:Europe/Monaco
BEGIN:DAYLIGHT
TZOFFSETFROM:+0100
TZOFFSETTO:+0200
TZNAME:CEST
DTSTART:20210328T010000
END:DAYLIGHT
BEGIN:STANDARD
TZOFFSETFROM:+0200
TZOFFSETTO:+0100
TZNAME:CET
DTSTART:20211031T010000
END:STANDARD
BEGIN:DAYLIGHT
TZOFFSETFROM:+0100
TZOFFSETTO:+0200
TZNAME:CEST
DTSTART:20220327T010000
END:DAYLIGHT
BEGIN:STANDARD
TZOFFSETFROM:+0200
TZOFFSETTO:+0100
TZNAME:CET
DTSTART:20221030T010000
END:STANDARD
END:VTIMEZONE
BEGIN:VEVENT
DTSTART;VALUE=DATE:20211015
DTEND;VALUE=DATE:20220104
DTSTAMP:20260425T123549
CREATED:20211022T070406Z
LAST-MODIFIED:20211022T070406Z
UID:129882-1634266800-1641178799@www.hellomonaco.ru
SUMMARY:Выставка\, посвящённая расширению границ Монако и мелиорации земель
DESCRIPTION:Управление по делам культуры Монако организует с 15 октября по 2 января 2022 года выставку\, посвящённую расширению границ Монако и мелиорации земель в целом. Экспозиция разместится в выставочном зале на набережной Антуана I. \nНовая выставка приглашает посетителей исследовать геополитические\, социальные\, городские\, технические и экологические аспекты\, а также познакомиться с реальными человеческими историями. С этой целью будет представлена большая коллекция картографических\, фотографических и аудиовизуальных архивов\, а также различные планы и модели. Кроме того\, организаторы выставки опросили ряд экспертов\, стоящих за проектами по мелиорации земель\, и тех\, кто сегодня использует эти «новые земли»\, чтобы получить их личные впечатления.
URL:https://www.hellomonaco.ru/event/vystavka-posvyashhyonnaya-rasshireniyu-granits-monako-i-melioratsii-zemel/
ATTACH;FMTTYPE=image/png:https://www.hellomonaco.ru/wp-content/uploads/2021/10/Snimok-ekrana-2021-10-20-v-10.48.52.png
END:VEVENT
BEGIN:VEVENT
DTSTART;VALUE=DATE:20211113
DTEND;VALUE=DATE:20211207
DTSTAMP:20260425T123549
CREATED:20211116T100720Z
LAST-MODIFIED:20211116T101351Z
UID:130456-1636772400-1638759599@www.hellomonaco.ru
SUMMARY:Фотовыставка «Самая Красивая Страна» от Русского географического общества
DESCRIPTION:Фонд князя Альбера II и Русское географическое общество представляют фотовыставку «Россия — самая красивая страна» в садах Святого Мартина в Монако до 5 декабря 2021 года. \nЭкспозиция состоит из 23 крупноформатных фотографий конкурса Русского географического общества «Самая красивая страна»\, масштабного проекта\, объединяющего работы тысяч фотографов каждый год. Экологический конкурс\, начатый в 2015 году\, призван подчеркнуть красоту природы и богатство биоразнообразия России\, а также повысить осведомлённость об уважении к Планете через искусство фотографии. \nДанная выставка создана в сотрудничестве с Департаментом культуры и Департаментом градостроительства Монако.
URL:https://www.hellomonaco.ru/event/fotovystavka-samaya-krasivaya-strana-ot-russkogo-geograficheskogo-obshhestva/
ATTACH;FMTTYPE=image/jpeg:https://www.hellomonaco.ru/wp-content/uploads/2021/11/Screenshot_3-1.jpg
END:VEVENT
BEGIN:VEVENT
DTSTART;VALUE=DATE:20211125
DTEND;VALUE=DATE:20220517
DTSTAMP:20260425T123549
CREATED:20211129T190157Z
LAST-MODIFIED:20211129T190157Z
UID:130899-1637809200-1652669999@www.hellomonaco.ru
SUMMARY:Выставка "Трепет"
DESCRIPTION:С 25 ноября 2021 года по 15 мая 2022 года на Вилле Paloma Нового Национального музея Монако будет представлена выставка «Трепет». \nНа выставке представлена подборка современных работ\, приобретённых Национальным музеем Монако за последние десять лет. От инсталляции «Чужой» южноафриканской художницы Кэндис Брайтц\, поступившей в коллекцию в 2010 году\, до фильма «Белый альбом» американца Артура Джафа\, приобретённого в 2021 году\, выставка объединяет семнадцать художников двенадцати разных национальностей. Всех их объединяет свой ответ и видение на определение «трепетное мышление». \nПодробности на сайте. \n 
URL:https://www.hellomonaco.ru/event/vystavka-trepet/
LOCATION:Villa Paloma\, 56 Boulevard du Jardin Exotique\, 98000 \, Monaco
ATTACH;FMTTYPE=image/jpeg:https://www.hellomonaco.ru/wp-content/uploads/2021/11/015.jpg
END:VEVENT
BEGIN:VEVENT
DTSTART;VALUE=DATE:20211125
DTEND;VALUE=DATE:20220227
DTSTAMP:20260425T123549
CREATED:20211205T174847Z
LAST-MODIFIED:20211205T174847Z
UID:131115-1637809200-1645844399@www.hellomonaco.ru
SUMMARY:Фотовыставка Оливера Анриго "Северный полярный круг"
DESCRIPTION:С 25 ноября и до 25 февраля 2022 года в галерее Espace 22 художник-фотограф Оливер Анриго представляет свои работы в рамках выставки «Северный полярный круг». \nОливер Анриго — профессиональный фотограф\, работающий с новостными агентствами. Несколько лет он работал на агентство Reuters. Оливер\, которого искусству фотографа научил его отец\, несколько раз ходил в экспедиции вокруг света\, уделяя особое внимание вопросам экологии и дикой природы. Это темы\, затрагивающие его до глубины сердца. \nФотографии\, представленные на выставке\, поражают красотой и богатством Арктики\, они являются частью глобального проекта\, направленного на сохранение окружающей среды. \nНаходясь в постоянном контакте с известными учеными\, Оливер путешествует по отдалённым районам Арктики\, чтобы привлечь внимание широкой общественности к последствиям изменения климата таким образом\, чтобы это было одновременно интересно\, познавательно и тонко. \nАдрес галереи Espace 22: 24\, boulevard d’Italie.
URL:https://www.hellomonaco.ru/event/fotovystavka-olivera-anrigo-severnyj-polyarnyj-krug/
ATTACH;FMTTYPE=image/jpeg:https://www.hellomonaco.ru/wp-content/uploads/2021/12/espace-22-site-copy-olivier-anrigo.jpg
END:VEVENT
BEGIN:VEVENT
DTSTART;TZID=Europe/Monaco:20211130T203000
DTEND;TZID=Europe/Monaco:20211130T220000
DTSTAMP:20260425T123549
CREATED:20211026T115420Z
LAST-MODIFIED:20211026T115420Z
UID:129984-1638304200-1638309600@www.hellomonaco.ru
SUMMARY:Спектакль "Мечта Мерсье"
DESCRIPTION:30 ноября Театр принцессы Грейс покажет спектакль «Мечта Мерсье». \nПариж\, июль 1794 года\, период Террора. \nМолодая французская аристократка заключена в тюрьму на несколько месяцев в ожидании её выступления в революционном суде\, который может привести её на эшафот. Внезапно в камеру проникает писатель Луи Себастьен Мерсье\, который мечтает о “самой мирной и счастливой » революции. Удастся ли девушке избежать жестокой судьбы? \nНачало в 20:30. \nСтоимость билетов — 21-35 евро\, приобрести их можно здесь. \nПодробности на сайте.
URL:https://www.hellomonaco.ru/event/spektakl-mechta-merse/
LOCATION:Théâtre Princesse Grace\, 12\, Avenue d'Ostende 98000 \, Monaco
ATTACH;FMTTYPE=image/jpeg:https://www.hellomonaco.ru/wp-content/uploads/2021/10/le_reve_de_mercier_06.jpg
END:VEVENT
BEGIN:VEVENT
DTSTART;TZID=Europe/Monaco:20211130T203000
DTEND;TZID=Europe/Monaco:20211130T220000
DTSTAMP:20260425T123549
CREATED:20211125T184045Z
LAST-MODIFIED:20211125T184045Z
UID:130750-1638304200-1638309600@www.hellomonaco.ru
SUMMARY:Концерт: музыка эпохи барокко
DESCRIPTION:Департамент по делам культуры представляет два концерта музыки в стиле барокко в Часовне Милосердия (Chapel of Mercy) — во вторник\, 30 ноября\, и в четверг\, 2 декабря. \n30 ноября \nКонцерт\, посвящённый Жоскену Депре\, композитору эпохи Возрождения\, способствовавшему расцвету музыки в этот период. В 2021 году исполняется 500 лет со дня смерти композитора. \n2 декабря \nКонцерт с участием ансамбля Profeti della Quinta. Сосредоточив внимание на репертуаре XVI и XVII веков\, ансамбль стремится создавать яркие и выразительные представления музыки вчерашнего дня для сегодняшней аудитории. \nПрограмма концерта переносит слушателей в Италию\, в эпоху мадригала\, одного из самых значительных жанров светской вокальной музыки XVI и начала XVII веков. \nНачало концертов в 20:30. \nТребуется бронирование: +377 98 98 83 03.
URL:https://www.hellomonaco.ru/event/kontsert-muzyka-epohi-barokko/
ATTACH;FMTTYPE=image/jpeg:https://www.hellomonaco.ru/wp-content/uploads/2021/11/Screenshot_1-1.jpg
END:VEVENT
BEGIN:VEVENT
DTSTART;TZID=Europe/Monaco:20211130T203000
DTEND;TZID=Europe/Monaco:20211130T230000
DTSTAMP:20260425T123549
CREATED:20211012T065032Z
LAST-MODIFIED:20211012T065032Z
UID:129622-1638304200-1638313200@www.hellomonaco.ru
SUMMARY:15-й джазовый фестиваль Монте-Карло - Квартет Чучо Вальдеса и Илиан Канисарес
DESCRIPTION:15-й джазовый фестиваль Монте-Карло\, который пройдёт с 23 ноября по 4 декабря в Opéra Garnier\, предложит зрителям лучшие международные музыкальные композиции. \n\n30 ноября впервые на Джазовом фестивале Монте-Карло выступит Квартет Чучо Вальдеса с участием Илиан Канисарес.\n\nСтоимость билетов €75\, приобрести их можно на сайте. \n\n3 декабря состоится концерт французского гитариста Пола Персонне.\n\nСтоимость билетов €65\, приобрести их можно на сайте. \n\n4 декабря французский певец Давид Холлидей закроет фестиваль джаза.\n\nНа сцене Оперы Гарнье Монте-Карло музыкант представит свой последний альбом Imagine un Monde. \nСтоимость билетов €75\, приобрести их можно на сайте. \nНачало всех концертов в 20:30.
URL:https://www.hellomonaco.ru/event/15-j-dzhazovyj-festival-monte-karlo-kvartet-chucho-valdesa-i-ilian-kanisares/
LOCATION:Opéra Garnier Monte-Carlo\, Casino Monte-Carlo\, Place du Casino\, 98000\, 98000\, Monaco
ATTACH;FMTTYPE=image/jpeg:https://www.hellomonaco.ru/wp-content/uploads/2021/10/Screenshot_1-1.jpg
END:VEVENT
END:VCALENDAR