BEGIN:VCALENDAR
VERSION:2.0
PRODID:-//HelloMonaco.ru - ECPv6.0.10//NONSGML v1.0//EN
CALSCALE:GREGORIAN
METHOD:PUBLISH
X-ORIGINAL-URL:https://www.hellomonaco.ru
X-WR-CALDESC:Мероприятия для HelloMonaco.ru
REFRESH-INTERVAL;VALUE=DURATION:PT1H
X-Robots-Tag:noindex
X-PUBLISHED-TTL:PT1H
BEGIN:VTIMEZONE
TZID:Europe/Monaco
BEGIN:DAYLIGHT
TZOFFSETFROM:+0100
TZOFFSETTO:+0200
TZNAME:CEST
DTSTART:20220327T010000
END:DAYLIGHT
BEGIN:STANDARD
TZOFFSETFROM:+0200
TZOFFSETTO:+0100
TZNAME:CET
DTSTART:20221030T010000
END:STANDARD
BEGIN:DAYLIGHT
TZOFFSETFROM:+0100
TZOFFSETTO:+0200
TZNAME:CEST
DTSTART:20230326T010000
END:DAYLIGHT
BEGIN:STANDARD
TZOFFSETFROM:+0200
TZOFFSETTO:+0100
TZNAME:CET
DTSTART:20231029T010000
END:STANDARD
BEGIN:DAYLIGHT
TZOFFSETFROM:+0100
TZOFFSETTO:+0200
TZNAME:CEST
DTSTART:20240331T010000
END:DAYLIGHT
BEGIN:STANDARD
TZOFFSETFROM:+0200
TZOFFSETTO:+0100
TZNAME:CET
DTSTART:20241027T010000
END:STANDARD
END:VTIMEZONE
BEGIN:VEVENT
DTSTART;TZID=Europe/Monaco:20220604T100000
DTEND;TZID=Europe/Monaco:20240602T190000
DTSTAMP:20260421T161815
CREATED:20220701T073140Z
LAST-MODIFIED:20220701T073140Z
UID:134818-1654336800-1717354800@www.hellomonaco.ru
SUMMARY:Выставка «Полярная миссия»
DESCRIPTION:Выставка «Полярная миссия» представлена в Океанографическом музее с 4 июня 2022 года. \nПять тематических зон\, расположенных на двух уровнях украшают этот новый тур. От открытия полюсов до дикой природы\, которую они приютили\, и до людей\, которые их населяют и исследуют. Различные экспонаты и документы\, цифровой контент и полное погружение в атмосферу\, благодаря современным технологиям\, сочетаются и дополняют друг друга. Великое путешествие начинается! \nКаждый посетитель играет роль полевого репортера в полярной миссии. Вооружившись входным билетом\, который имеет форму «пресс-карты»\, они могут получить доступ к дополнительному контенту и информации в течение всего визита.
URL:https://www.hellomonaco.ru/event/vystavka-polyarnaya-missiya/
LOCATION:Oceanographique Museum\, Monaco
ATTACH;FMTTYPE=image/jpeg:https://www.hellomonaco.ru/wp-content/uploads/2022/07/pexels-kristoffer-brink-jonsson-1647220-2.jpg
END:VEVENT
BEGIN:VEVENT
DTSTART;TZID=Europe/Monaco:20230320T090000
DTEND;TZID=Europe/Monaco:20240405T180000
DTSTAMP:20260421T161815
CREATED:20240225T171525Z
LAST-MODIFIED:20240225T171525Z
UID:142962-1679302800-1712340000@www.hellomonaco.ru
SUMMARY:Выставка «Альбер I – князь-исследователь доисторической эпохи»
DESCRIPTION:C 20 марта по 5 апреля в Музее доисторической антропологии проходит выставка\, посвященная удивительным находкам князя Альбера I. Гости смогут открыть для себя другую сторону личности великого правителя\, известного своими морскими экспедициями. \nВсего несколько примеров демонстрируют\, что Альбер I был в самом центре — и даже стоял у истоков — величайших археологических революций. \nМузей представит редкую коллекцию\, обнаруженную на территории Монако\, Франции и Испании. Некоторые экспонаты приехали в княжество из Парижского института палеонтологии человека.
URL:https://www.hellomonaco.ru/event/vystavka-alber-i-knyaz-issledovatel-doistoricheskoj-epohi/
LOCATION:Музей Антропологии\, 56\, бульвар Jardin Exotic\, Monaco
ATTACH;FMTTYPE=image/jpeg:https://www.hellomonaco.ru/wp-content/uploads/2024/02/Snimok-ekrana-2023-04-18-v-0.53.00.jpg
END:VEVENT
BEGIN:VEVENT
DTSTART;VALUE=DATE:20230701
DTEND;VALUE=DATE:20240314
DTSTAMP:20260421T161815
CREATED:20240301T092807Z
LAST-MODIFIED:20240301T092807Z
UID:142980-1688180400-1710298799@www.hellomonaco.ru
SUMMARY:Выставка «Хрупкие полярные миры – Грег Лекёр»
DESCRIPTION:До 12 марта жители и гости княжества могут отправиться в путешествие по северным странам. \nФотографии Грега Лекёра раскрывают природную красоту далеких регионов нашей уникальной планеты: от Арктики до Антарктики\, от гигантских ледяных глыб и белых медведей на северном полюсе до пингвинов и ледяных пустынь на южном. Захватывающий дух экспозиция вдохновляет посетителей и поднимает важный вопрос защиты океанов.
URL:https://www.hellomonaco.ru/event/vystavka-hrupkie-polyarnye-miry-greg-lekyor/
LOCATION:Oceanographique Museum\, Monaco
ATTACH;FMTTYPE=image/jpeg:https://www.hellomonaco.ru/wp-content/uploads/2020/06/D4S_3724.jpg
END:VEVENT
BEGIN:VEVENT
DTSTART;VALUE=DATE:20231122
DTEND;VALUE=DATE:20240130
DTSTAMP:20260421T161815
CREATED:20231119T200800Z
LAST-MODIFIED:20231119T200800Z
UID:142105-1700622000-1706497199@www.hellomonaco.ru
SUMMARY:Выставка: «Князь в сердце цирковой жизни»
DESCRIPTION:С 22 ноября 2023 года по 28 января 2024 года на Террасах Фонвьей будут выставлены редкие фотографии. Экспозиция посвящена цирку и включает редкие фото князя Ренье III\, кинокадры\, необычные костюмы артистов\, ранее не публиковавшиеся документы\, плакаты и многое другое. \nВыставка пройдет в Монако в рамках празднования столетия со дня рождения князя Ренье III. \nВход — бесплатный.
URL:https://www.hellomonaco.ru/event/vystavka-knyaz-v-serdtse-tsirkovoj-zhizni/
LOCATION:Terrasses de Fontvieille\, Avenue Albert II\, Monaco\, Monaco
ATTACH;FMTTYPE=image/jpeg:https://www.hellomonaco.ru/wp-content/uploads/2023/11/AFF_40x30_Expo-100ans-Prince_v1-1.jpeg
END:VEVENT
BEGIN:VEVENT
DTSTART;VALUE=DATE:20231128
DTEND;VALUE=DATE:20240302
DTSTAMP:20260421T161815
CREATED:20231217T081646Z
LAST-MODIFIED:20231217T184629Z
UID:142485-1701140400-1709261999@www.hellomonaco.ru
SUMMARY:Рождественский сезон в Blue Gin
DESCRIPTION:C 28 ноября 2023 года по 29 февраля 2024 года популярное в Монако заведение Blue Gin (отель Monte-Carlo Bay Hotel & Resort) приглашает совершить путешествие в заснеженную Антарктиду. \nТам\, где летом мы потягивали коктейли с видом на залив Средиземного моря\, теперь появились сугробы и вечная мерзлота! Интерьер бара преобразился: белые медведи\, пингвины\, еловые деревья\, деревянная мебель и голубое «холодное» освещение. \nПо четвергам\, пятницам и субботам морозную погоду разогреет диджей Николас Саад\, а гости заведения смогут попробовать новую зимнюю коктейльную карту. \nБронирование столов по телефону: +377 98 06 03 60.
URL:https://www.hellomonaco.ru/event/rozhdestvenskij-sezon-v-blue-gin/
ATTACH;FMTTYPE=image/jpeg:https://www.hellomonaco.ru/wp-content/uploads/2023/12/blue-gin-bar-lounge-monaco-pop-up-noel-2023-blue-ice-009.jpeg
END:VEVENT
BEGIN:VEVENT
DTSTART;VALUE=DATE:20231206
DTEND;VALUE=DATE:20240407
DTSTAMP:20260421T161815
CREATED:20240301T092204Z
LAST-MODIFIED:20240301T092204Z
UID:142978-1701831600-1712372399@www.hellomonaco.ru
SUMMARY:Выставка «Князь и Средиземноморье»
DESCRIPTION:Океанографический институт отдает дань уважения великим правителям Монако князю Ренье III и князю Альберу I и приглашает на выставку «Князь и Средиземноморье».  \nПосетителям предлагается пройти через несколько тематических зон и подняться на борт легендарного судна Deo Juvante II. Большинство редких экспонатов рассказывают о деятельности князя Ренье III и важных этапах развития Средиземноморского побережья. \n\nВыставка открыта для посещения вплоть до 5 апреля 2024 года.
URL:https://www.hellomonaco.ru/event/vystavka-knyaz-i-sredizemnomore/
LOCATION:Oceanographique Museum\, Monaco
ATTACH;FMTTYPE=image/jpeg:https://www.hellomonaco.ru/wp-content/uploads/2020/09/D4S_3728.jpg
END:VEVENT
BEGIN:VEVENT
DTSTART;VALUE=DATE:20231207
DTEND;VALUE=DATE:20240109
DTSTAMP:20260421T161815
CREATED:20231212T061737Z
LAST-MODIFIED:20231212T061737Z
UID:142365-1701918000-1704682799@www.hellomonaco.ru
SUMMARY:Рождественская деревня в порту Эркюль
DESCRIPTION:7 декабря 2023 года на набережной порта Эркюль появилась настоящая Рождественская деревня: десятки киосков с деликатесами и праздничными сувенирами\, карусели\,  аттракционы\, веселые развлечения для взрослых и детей. Главной темой этого года стало столетие со дня рождения великого князя Ренье III. \nСоздатели масштабной рождественской деревни решили затронуть темы искусства\, автоспорта\, животных и моря. Анимированные сцены\, украшенные старыми фотографиями\, 800 натуральных рождественских елей\, арки высотой в несколько метров будут встречать посетителей у входов в деревню. На территории будут установлены детские американские горки и сани Деда Мороза. \nМэрия Монако запланировала развлекательную программу для детей и взрослых: праздничные парады\, живые музыкальные концерты и сценические шоу. \nЯрмарка будет открыта вплоть до 7 января 2024 года.
URL:https://www.hellomonaco.ru/event/rozhdestvenskaya-derevnya-v-portu-erkyul/
LOCATION:Порт Эркюль\, 98000\, Монако\, Monaco
ATTACH;FMTTYPE=image/jpeg:https://www.hellomonaco.ru/wp-content/uploads/2023/12/2xqavtNc3r36gRhUdb36fOAIVusMS6QxneNz5vE2.jpg
END:VEVENT
BEGIN:VEVENT
DTSTART;VALUE=DATE:20231208
DTEND;VALUE=DATE:20240110
DTSTAMP:20260421T161815
CREATED:20181205T103201Z
LAST-MODIFIED:20231212T195446Z
UID:101809-1702004400-1704769199@www.hellomonaco.ru
SUMMARY:Выставка рождественских вертепов
DESCRIPTION:С 8 декабря 2023 по 8 января 2024 года в Монако Вилль пройдет выставка рождественских вертепов ручной работы — Le Chemin des Crèches. \nВоспроизведения сцены Рождества Христова будут представлены в специально отведенных шале. Следуйте указанному маршруту и любуйтесь разнообразием и красотой вертепов из разных стран мира! \nАссоциация Рождественского маршрута Монако также организует день праздничных образовательных мероприятий для детей\, включающих творческие мастерские и большую игру\, в которую можно будет поиграть на маршруте. Он пройдет в воскресенье 11 декабря с 11 до 16. \nДополнительная информация — chemindescrechesdemonaco@free.fr.
URL:https://www.hellomonaco.ru/event/vyistavka-rozhdestvenskih-vertepov/
ATTACH;FMTTYPE=image/jpeg:https://www.hellomonaco.ru/wp-content/uploads/2018/01/baby-4258530_1920.jpg
END:VEVENT
BEGIN:VEVENT
DTSTART;VALUE=DATE:20231215
DTEND;VALUE=DATE:20240109
DTSTAMP:20260421T161815
CREATED:20231212T183840Z
LAST-MODIFIED:20231212T184037Z
UID:142391-1702609200-1704682799@www.hellomonaco.ru
SUMMARY:Спортивная деревня в порту Эркюль
DESCRIPTION:15 декабря в порту Эркюль откроется зона спортивных развлечений\, организованная мэрией Монако. \nВзрослые и дети смогут испробовать стену для скалолазания\, 3 полосы препятствий по мотивам знаменитой телеигры «Воин ниндзя» для детей от 3 до 12 лет и 180-метровый зиплайн с трамплина бассейна Stade Nautique Rainier для самых смелых.
URL:https://www.hellomonaco.ru/event/sportivnaya-derevnya-v-portu-erkyul/
LOCATION:Порт Эркюль\, 98000\, Монако\, Monaco
ATTACH;FMTTYPE=image/jpeg:https://www.hellomonaco.ru/wp-content/uploads/2023/12/m3BzLzuFt0jUGm2GY1CUl283jYf6ab4GpatvOwRS.jpeg
END:VEVENT
BEGIN:VEVENT
DTSTART;TZID=Europe/Monaco:20231215T090000
DTEND;TZID=Europe/Monaco:20240405T180000
DTSTAMP:20260421T161815
CREATED:20240225T153358Z
LAST-MODIFIED:20240225T153358Z
UID:142952-1702630800-1712340000@www.hellomonaco.ru
SUMMARY:“Один Князь\, один музей”: выставка в честь Ренье III
DESCRIPTION:В рамках празднования столетия со дня рождения князя Ренье III Музей доисторической антропологии представляет уникальную экспозицию\, посвященную великому правителю Монако и основателю музея. \nВыставка “Один Князь\, один музей” состоит из редких документов и экспонатов\, которые ранее не были доступны широкой публике. Посетители совершат настоящее путешествие через тематические пространства. Древние реликвии были тщательно отобраны и изучены директором музея Еленой Россони-Ноттер. \nЖители и гости княжества смогут ознакомиться с памятной экспозицией вплоть до 5 апреля 2024 года. \nЭкскурсии по запросу\, дополнительная информация и бронирование по телефону 98.98.80.06 или на сайте map@gouv.mc.
URL:https://www.hellomonaco.ru/event/odin-knyaz-odin-muzej-vystavka-v-chest-rene-iii/
LOCATION:Музей Антропологии\, 56\, бульвар Jardin Exotic\, Monaco
ATTACH;FMTTYPE=image/jpeg:https://www.hellomonaco.ru/wp-content/uploads/2024/02/Snimok-ekrana-2024-02-25-v-18.32.44.jpg
END:VEVENT
END:VCALENDAR