BEGIN:VCALENDAR
VERSION:2.0
PRODID:-//HelloMonaco.ru - ECPv6.0.10//NONSGML v1.0//EN
CALSCALE:GREGORIAN
METHOD:PUBLISH
X-WR-CALNAME:HelloMonaco.ru
X-ORIGINAL-URL:https://www.hellomonaco.ru
X-WR-CALDESC:Мероприятия для HelloMonaco.ru
REFRESH-INTERVAL;VALUE=DURATION:PT1H
X-Robots-Tag:noindex
X-PUBLISHED-TTL:PT1H
BEGIN:VTIMEZONE
TZID:Europe/Monaco
BEGIN:DAYLIGHT
TZOFFSETFROM:+0100
TZOFFSETTO:+0200
TZNAME:CEST
DTSTART:20260329T010000
END:DAYLIGHT
BEGIN:STANDARD
TZOFFSETFROM:+0200
TZOFFSETTO:+0100
TZNAME:CET
DTSTART:20261025T010000
END:STANDARD
END:VTIMEZONE
BEGIN:VEVENT
DTSTART;VALUE=DATE:20260129
DTEND;VALUE=DATE:20260209
DTSTAMP:20260423T132134
CREATED:20211228T181955Z
LAST-MODIFIED:20260201T200934Z
UID:131496-1769655600-1770519599@www.hellomonaco.ru
SUMMARY:Историческое ралли Монте-Карло
DESCRIPTION:С 29 января по 7 февраля 28-Историческое Ралли Монте-Карло\, соберёт классические автомобили с 1911 по 1986 годы. \nМаршрут стартует из шести европейских городов: Джон О’Гроатс (Шотландия)\, Бад Гumble\, Барселона\, Монако\, Реймс и Турин. В программе — специальные этапы и гонки на время\, испытания на проверку навыков навигации и управления. \nЯркий финал состоится в Монако\, где пройдёт церемония награждения и торжественный финиш. \nПодробности на сайте Автомобильного клуба Монако.
URL:https://www.hellomonaco.ru/event/26-e-istoricheskoe-ralli-monte-karlo-2/
ATTACH;FMTTYPE=image/jpeg:https://www.hellomonaco.ru/wp-content/uploads/2023/02/8FA7F40B-B31A-4DA1-9D87-A7233044FEE1-1024x768-1.jpeg
END:VEVENT
END:VCALENDAR