BEGIN:VCALENDAR
VERSION:2.0
PRODID:-//HelloMonaco.ru - ECPv6.0.10//NONSGML v1.0//EN
CALSCALE:GREGORIAN
METHOD:PUBLISH
X-ORIGINAL-URL:https://www.hellomonaco.ru
X-WR-CALDESC:Мероприятия для HelloMonaco.ru
REFRESH-INTERVAL;VALUE=DURATION:PT1H
X-Robots-Tag:noindex
X-PUBLISHED-TTL:PT1H
BEGIN:VTIMEZONE
TZID:Europe/Monaco
BEGIN:DAYLIGHT
TZOFFSETFROM:+0100
TZOFFSETTO:+0200
TZNAME:CEST
DTSTART:20210328T010000
END:DAYLIGHT
BEGIN:STANDARD
TZOFFSETFROM:+0200
TZOFFSETTO:+0100
TZNAME:CET
DTSTART:20211031T010000
END:STANDARD
END:VTIMEZONE
BEGIN:VEVENT
DTSTART;VALUE=DATE:20210219
DTEND;VALUE=DATE:20211005
DTSTAMP:20260424T022603
CREATED:20210202T071119Z
LAST-MODIFIED:20210202T071119Z
UID:124099-1613703600-1633316399@www.hellomonaco.ru
SUMMARY:Выставка "Шимабуку. 165-метровая русалка и другие истории"
DESCRIPTION:С 19 февраля по 3 октября на Вилле Палома Нового Национального музея Монако пройдёт выставка японского художника Шимабуку «165-метровая русалка и другие истории»\, которая рассказывает о приключениях художника по всему миру\, от его родной Японии до Княжества Монако через Бразилию\, Австралию и многие другие страны. \nВо время посещения Фукуоки он узнал легенду о русалке\, длина тела которой составляла 165 метров\, и решил сделать эту историю частью своего искусства. Приобретённая в 2018 году Новым Национальным музеем Монако инсталляция «Я путешествую с 165-метровой русалкой»\, является отправной точкой для выставки и обогащена присутствием артефактов\, произведённых в Монако разными мастерами\, приглашёнными\, в свою очередь\, превратить эту историю в собственное произведение. \nПодробнее о выставке на сайте и в нашем материале.
URL:https://www.hellomonaco.ru/event/vystavka-shimabuku-165-metrovaya-rusalka-i-drugie-istorii-2/
ATTACH;FMTTYPE=image/jpeg:https://www.hellomonaco.ru/wp-content/uploads/2020/10/unnamed-2-780x470-1.jpg
END:VEVENT
BEGIN:VEVENT
DTSTART;VALUE=DATE:20210313
DTEND;VALUE=DATE:20210413
DTSTAMP:20260424T022603
CREATED:20210224T105752Z
LAST-MODIFIED:20210224T105752Z
UID:124559-1615604400-1618196399@www.hellomonaco.ru
SUMMARY:Весенний Фестиваль Искусств в Монте-Карло 2021
DESCRIPTION:С 13 марта по 11 апреля в Монако пройдёт Весенний Фестиваль Искусств в Монте-Карло 2021 (Printemps des Arts de Monte-Carlo). \nФестиваль под патронажем принцессы Ганноверской – знаковое мероприятие для культурной программы Монако. Его идея зародилась 37 лет назад из желания князя Ренье III сделать княжество главным местом встречи легендарных мастеров и законодателей музыкального искусства. \nФестиваль будет радовать нас целый месяц. Филармонический оркестр Монте-Карло и другие музыкальные ансамбли будут выступать на самых престижных площадках княжества. Одной из основных тем фестиваля станет «Музыка Второй Венской Школы»\, процветавшей в первой половине XX века. Зритель услышит серию мастерских интерпретаций произведений таких композиторов\, как Антон Веберн\, Альбан Берг\, Арнольд Шенберг. Музыкальные произведения будут исполняться под руководством самых опытных дирижеров: Даниэле Гатти\, Маттиаса Пинчера\, Франсуа-Ксавье Рота и Казуки Ямады. Своё мастерство также продемонстрируют квартеты Землинского и Тана. \nДля получения дополнительной информации о Фестивале и приобретении билетов\, пожалуйста\, посетите веб-сайт: www.printempsdesarts.mc
URL:https://www.hellomonaco.ru/event/vesennij-festival-iskusstv-v-monte-karlo-2021/
ATTACH;FMTTYPE=image/jpeg:https://www.hellomonaco.ru/wp-content/uploads/2021/02/Screenshot_2.jpg
END:VEVENT
BEGIN:VEVENT
DTSTART;VALUE=DATE:20210401
DTEND;VALUE=DATE:20210907
DTSTAMP:20260424T022603
CREATED:20210325T072930Z
LAST-MODIFIED:20210325T072930Z
UID:125108-1617246000-1630897199@www.hellomonaco.ru
SUMMARY:Выставка "Маргиналии: внутри коллекций комиксов"
DESCRIPTION:С 1 апреля по 5 сентября в Новом Национальном музее Монако (NMNM-Villa Sauber) пройдёт выставка «Маргиналии: внутри коллекций комиксов». \nМаргиналии — это небольшие рисунки\, расположенные на полях средневековых рукописей. Часто светские\, иногда забавные\, но всегда увлекательные\, они образуют диалог с текстами\, которые они освещают\, объясняют или критикуют\, и могут рассматриваться как истоки комиксов. \nВыставка будет сопровождаться весёлым изданием (выпущенным совместно NMNM и Glénat)\, которое намерено совместить удовольствие от чтения комиксов с требованиями соответствующего научного подхода. \nИзображение\, выбранное для обложки каталога\, а также афиша\, рекламирующая выставку\, были нарисованы специально для выставки авангардным карикатуристом Герром Зееле (Herr Seele): как подмигивание\, полное озорства при встрече классической живописи с комиксами. \n \nПосетители смогут открыть для себя более 350 работ самых известных художников комиксов. \nПодробности на сайте музея.
URL:https://www.hellomonaco.ru/event/vystavka-marginalii-vnutri-kollektsij-komiksov/
LOCATION:Villa Sauber\, 17\, avenue Princesse Grace\, Monaco
ATTACH;FMTTYPE=image/jpeg:https://www.hellomonaco.ru/wp-content/uploads/2021/03/Screenshot_1-2.jpg
END:VEVENT
BEGIN:VEVENT
DTSTART;TZID=Europe/Monaco:20210403T080000
DTEND;TZID=Europe/Monaco:20210611T170000
DTSTAMP:20260424T022603
CREATED:20210418T083525Z
LAST-MODIFIED:20210425T081718Z
UID:125578-1617436800-1623430800@www.hellomonaco.ru
SUMMARY:Фестиваль Côte d´Azur Garden
DESCRIPTION:Фестиваль Côte d´Azur Garden пройдёт с 9 мая по 11 июня\, однако Департамент городского планирования решил установить своё творение “Отражение воды в голубой бесконечности” и разрешить публике любоваться им уже с 3 апреля на террасах Казино (сторона Fairmont).
URL:https://www.hellomonaco.ru/event/festival-cote-d-azur-garden/
ATTACH;FMTTYPE=image/jpeg:https://www.hellomonaco.ru/wp-content/uploads/2021/04/DAU-Festival-Jardins-Co-te-dAzur-Direction-de-la-Communication-Michael-Alesi.jpg
END:VEVENT
BEGIN:VEVENT
DTSTART;TZID=Europe/Monaco:20210403T150000
DTEND;TZID=Europe/Monaco:20210403T170000
DTSTAMP:20260424T022603
CREATED:20210301T084654Z
LAST-MODIFIED:20210301T084654Z
UID:124658-1617462000-1617469200@www.hellomonaco.ru
SUMMARY:Весенний Фестиваль Искусств: концерт в Аудитории Ренье III
DESCRIPTION:3 апреля в Аудитории Ренье III в рамках Весеннего фестиваля искусств Монте-Карло состоится концерт под управлением Франсуа-Ксавье Рота. \nВ программе — произведения Шенберга\, Берга и Жерара Пессона. \nНачало в 15:00. \nСтоимость билетов — 15 евро\, приобрести и можно на сайте.
URL:https://www.hellomonaco.ru/event/vesennij-festival-iskusstv-kontsert-v-auditorii-rene-iii-2/
LOCATION:Auditorium Rainier III\, Monaco
ATTACH;FMTTYPE=image/jpeg:https://www.hellomonaco.ru/wp-content/uploads/2021/03/2021-04-03-Les-sie-cles-scaled-1.jpg
END:VEVENT
BEGIN:VEVENT
DTSTART;TZID=Europe/Monaco:20210403T170000
DTEND;TZID=Europe/Monaco:20210403T190000
DTSTAMP:20260424T022603
CREATED:20210326T140245Z
LAST-MODIFIED:20210326T140245Z
UID:125138-1617469200-1617476400@www.hellomonaco.ru
SUMMARY:Баскетбол\, Чемпионат Jeep ELITE: «Roca Team» против «Orléans»
DESCRIPTION:3 апреля в рамках Чемпионата Jeep ELITE по баскетболу встретятся «Roca Team» и «Orléans». Игра состоится в зале Gaston Médecin в 17:15. \nПожелаем удачи спортсменам! \nДополнительная информация на сайте.
URL:https://www.hellomonaco.ru/event/basketbol-chempionat-jeep-elite-roca-team-protiv-orleans-2/
LOCATION:Stade Louis II\, 7 Avenue des Castelans\, 98000\, Monaco
ATTACH;FMTTYPE=image/jpeg:https://www.hellomonaco.ru/wp-content/uploads/2019/09/Screenshot_13.jpg
END:VEVENT
BEGIN:VEVENT
DTSTART;TZID=Europe/Monaco:20210404T130000
DTEND;TZID=Europe/Monaco:20210404T150000
DTSTAMP:20260424T022603
CREATED:20210326T140524Z
LAST-MODIFIED:20210326T140524Z
UID:125140-1617541200-1617548400@www.hellomonaco.ru
SUMMARY:Футбольный матч Лиги 1. «Монако» — «Мец»
DESCRIPTION:4 апреля состоится матч Лиги 1. Клуб «Монако» встретится с футболистами из команды «Мец» на стадионе Луи II. Начало в 13:00. \nПожелаем удачи монегаскам!
URL:https://www.hellomonaco.ru/event/futbolnyj-match-ligi-1-monako-mets/
LOCATION:Stade Louis II\, 7 Avenue des Castelans\, 98000\, Monaco
ATTACH;FMTTYPE=image/jpeg:https://www.hellomonaco.ru/wp-content/uploads/2020/01/slide_ligue1.jpg
END:VEVENT
BEGIN:VEVENT
DTSTART;TZID=Europe/Monaco:20210404T143000
DTEND;TZID=Europe/Monaco:20210404T180000
DTSTAMP:20260424T022603
CREATED:20210301T085901Z
LAST-MODIFIED:20210301T085901Z
UID:124661-1617546600-1617559200@www.hellomonaco.ru
SUMMARY:Весенний Фестиваль Искусств: концерты Алин Пибуль и Мари Вермёлин
DESCRIPTION:4 апреля в Опере Монте-Карло в рамках Весеннего фестиваля искусств Монте-Карло состоятся 2 концерта\, посвящённых музыке «Второй Венской школы». \n1-й концерт с участием пианистки Алин Пибуль — «Французская музыка конца XIX века». Начало в 14:30. \n2-й концерт с участием пианистки Мари Вермёлин — «Ференц Лист\, Венская школа». Начало в 16:00. \nСтоимость билетов — 15 евро\, приобрести и можно на сайте.
URL:https://www.hellomonaco.ru/event/vesennij-festival-iskusstv-kontserty-alin-pibul-i-mari-vermyolin/
LOCATION:Opéra Garnier Monte-Carlo\, Casino Monte-Carlo\, Place du Casino\, 98000\, 98000\, Monaco
ATTACH;FMTTYPE=image/jpeg:https://www.hellomonaco.ru/wp-content/uploads/2021/03/2021-04-04-Alain-Hanel-scaled-1.jpg
END:VEVENT
BEGIN:VEVENT
DTSTART;TZID=Europe/Monaco:20210405T143000
DTEND;TZID=Europe/Monaco:20210405T160000
DTSTAMP:20260424T022603
CREATED:20210301T090559Z
LAST-MODIFIED:20210301T090559Z
UID:124664-1617633000-1617638400@www.hellomonaco.ru
SUMMARY:Весенний Фестиваль Искусств: концерт "Французская музыка для клавесина"
DESCRIPTION:5 апреля в Океанографическом музее Монако в рамках Весеннего фестиваля искусств Монте-Карло состоится концерт «Французская музыка для клавесина» с участием Пьера Антая. \nНачало в 14:30. \nСтоимость билетов — 15 евро\, приобрести и можно на сайте.
URL:https://www.hellomonaco.ru/event/vesennij-festival-iskusstv-kontsert-frantsuzskaya-muzyka-dlya-klavesina/
LOCATION:Oceanographique Museum\, Monaco
ATTACH;FMTTYPE=image/jpeg:https://www.hellomonaco.ru/wp-content/uploads/2021/03/2021-04-08-Pierre-Hantai-scaled-1.jpg
END:VEVENT
BEGIN:VEVENT
DTSTART;TZID=Europe/Monaco:20210405T160000
DTEND;TZID=Europe/Monaco:20210405T173000
DTSTAMP:20260424T022603
CREATED:20210301T091050Z
LAST-MODIFIED:20210301T091050Z
UID:124667-1617638400-1617643800@www.hellomonaco.ru
SUMMARY:Весенний Фестиваль Искусств: детское шоу Марка Монне Bibilolo
DESCRIPTION:5 апреля в Театре Варьете в рамках Весеннего фестиваля искусств Монте-Карло детское шоу Марка Монне Bibilolo по сценарию Арно Фабра порадует зрителей всех возрастов. \nДети будут играть на различных музыкальных инструментах\, в особенности на фортепиано. \nНачало в 16:00. \nСтоимость билетов — 15 евро\, приобрести и можно на сайте.
URL:https://www.hellomonaco.ru/event/vesennij-festival-iskusstv-detskoe-shou-marka-monne-bibilolo/
LOCATION:Театр Варьете\, 1 Boulevard Albert 1er 98000 \, Monaco
ATTACH;FMTTYPE=image/jpeg:https://www.hellomonaco.ru/wp-content/uploads/2021/03/2021-04-02-Bibilolo-scaled-1.jpg
END:VEVENT
BEGIN:VEVENT
DTSTART;VALUE=DATE:20210406
DTEND;VALUE=DATE:20210408
DTSTAMP:20260424T022603
CREATED:20210403T121634Z
LAST-MODIFIED:20210403T121634Z
UID:125286-1617678000-1617764399@www.hellomonaco.ru
SUMMARY:Play 4 Peace Forum
DESCRIPTION:6 апреля\, в Международный день спорта\, Peace and Sport приглашает принять участие в Play 4 Peace Forum. \n\n «Чемпионы за мир» будут спикерами в нескольких виртуальных мероприятиях в течение нескольких дней!\n\n\n\nРегистрация и больше информации: www.april6.org/april6-initiatives/
URL:https://www.hellomonaco.ru/event/play-4-peace-forum/
ATTACH;FMTTYPE=image/jpeg:https://www.hellomonaco.ru/wp-content/uploads/2021/04/Screenshot_7.jpg
END:VEVENT
BEGIN:VEVENT
DTSTART;TZID=Europe/Monaco:20210408T140000
DTEND;TZID=Europe/Monaco:20210408T160000
DTSTAMP:20260424T022603
CREATED:20210402T075456Z
LAST-MODIFIED:20210402T075456Z
UID:125267-1617890400-1617897600@www.hellomonaco.ru
SUMMARY:Онлайн-семинар Sportel: eTalks
DESCRIPTION:После успеха запуска проекта eTALKS\, Sportel приглашает 8 апреля принять участие в бесплатной онлайн-панели\, которая будет посвящена киберспорту. \nБеседа 1 – Киберспорт и традиционные виды спорта – 14:00 — 15:00. \nБеседа 2 – Возможности в киберспорте для трансляции и производства — 15:00 — 16:00. \nРегистрация на сайте.
URL:https://www.hellomonaco.ru/event/onlajn-seminar-sportel-etalks/
ATTACH;FMTTYPE=image/jpeg:https://www.hellomonaco.ru/wp-content/uploads/2021/04/Screenshot_5.jpg
END:VEVENT
BEGIN:VEVENT
DTSTART;TZID=Europe/Monaco:20210408T190000
DTEND;TZID=Europe/Monaco:20210408T210000
DTSTAMP:20260424T022603
CREATED:20210326T141836Z
LAST-MODIFIED:20210326T141836Z
UID:125142-1617908400-1617915600@www.hellomonaco.ru
SUMMARY:Философские встречи Монако
DESCRIPTION:8 апреля в Театре принцессы Грейс состоятся очередные «Философские встречи Монако». На лекции на тему «Желания философии» выступят Винчиан Деспре и Дидье Дебез. \nМероприятие организовано Les Rencontres Philosophiques de Monaco. \nНачало в 19:00.
URL:https://www.hellomonaco.ru/event/filosofskie-vstrechi-monako-3/
LOCATION:Théâtre Princesse Grace\, 12\, Avenue d'Ostende 98000 \, Monaco
ATTACH;FMTTYPE=image/jpeg:https://www.hellomonaco.ru/wp-content/uploads/2021/03/filosofiya.jpg
END:VEVENT
BEGIN:VEVENT
DTSTART;TZID=Europe/Monaco:20210409T140000
DTEND;TZID=Europe/Monaco:20210409T170000
DTSTAMP:20260424T022603
CREATED:20210301T091546Z
LAST-MODIFIED:20210301T091546Z
UID:124670-1617976800-1617987600@www.hellomonaco.ru
SUMMARY:Весенний Фестиваль Искусств: мастер-класс Андреаса Стаера
DESCRIPTION:9 апреля в Аудитории Ренье III в рамках Весеннего фестиваля искусств Монте-Карло состоится мастер-класс Андреаса Стаера по игре на клавесине. \nВремя — с 14:00 до 17:00. \nВход свободный при наличии свободных мест\, регистрация обязательна по телефону — +377 97 98 32 90.
URL:https://www.hellomonaco.ru/event/vesennij-festival-iskusstv-master-klass-andreasa-staera/
LOCATION:Auditorium Rainier III\, Monaco
ATTACH;FMTTYPE=image/jpeg:https://www.hellomonaco.ru/wp-content/uploads/2021/03/2021-04-10-Andreas-Staier-scaled-1.jpg
END:VEVENT
BEGIN:VEVENT
DTSTART;TZID=Europe/Monaco:20210409T150000
DTEND;TZID=Europe/Monaco:20210409T163000
DTSTAMP:20260424T022603
CREATED:20210326T142943Z
LAST-MODIFIED:20210326T142943Z
UID:125145-1617980400-1617985800@www.hellomonaco.ru
SUMMARY:"Монако в кино"
DESCRIPTION:9 апреля Аудиовизуальный институт Монако приглашает открыть для себя разнообразие архивов и любопытных фактов на тему «Монако в кино». \nОбязательное бронирование. Подробности на сайте. \nНачало в 15:00.
URL:https://www.hellomonaco.ru/event/monako-v-kino/
ATTACH;FMTTYPE=image/jpeg:https://www.hellomonaco.ru/wp-content/uploads/2021/03/160952852_307517330706570_8771429614691769795_n.jpg
END:VEVENT
BEGIN:VEVENT
DTSTART;VALUE=DATE:20210410
DTEND;VALUE=DATE:20210420
DTSTAMP:20260424T022603
CREATED:20210225T093701Z
LAST-MODIFIED:20210225T093828Z
UID:124591-1618023600-1618801199@www.hellomonaco.ru
SUMMARY:Турнир Rolex Monte-Carlo Masters 2021
DESCRIPTION:С 10 по 18 апреля турнир Rolex Monte-Carlo Masters пройдёт на кортах Monte-Carlo Country Club за закрытыми дверями в соответствии с последними правительственными положениями о продлении чрезвычайного положения в сфере здравоохранения до 3 мая 2021 года. \nПерсонал турнира будет полностью мобилизованным и готовым принять лучших игроков со всего мира\, которые приедут сюда и обеспечат зрелищность соревнований\, даже в этот особенно трудный период. \nЗа развитием событий в ходе соревнований все желающие смогут наблюдать в мобильном приложении\, а также на официальном сайте и в социальных сетях турнира. \nКроме того\, организаторы напоминают\, что 114-й турнир Rolex Monte-Carlo Masters будет транслироваться по телевидению с 11 по 18 апреля на канале Eurosport\, а также 17 и 18 апреля на канале C8. \nНапомним\, что Чемпионом турнира в 2019 году стал Фабио Фоньини. \n 
URL:https://www.hellomonaco.ru/event/turnir-rolex-monte-carlo-masters-2021/
ATTACH;FMTTYPE=image/jpeg:https://www.hellomonaco.ru/wp-content/uploads/2021/02/Screenshot_7.jpg
END:VEVENT
BEGIN:VEVENT
DTSTART;TZID=Europe/Monaco:20210410T143000
DTEND;TZID=Europe/Monaco:20210410T160000
DTSTAMP:20260424T022603
CREATED:20210301T092125Z
LAST-MODIFIED:20210301T092125Z
UID:124673-1618065000-1618070400@www.hellomonaco.ru
SUMMARY:Весенний Фестиваль Искусств: концерт "Французская музыка для клавесина"
DESCRIPTION:10 апреля в Океанографическом музее Монако в рамках Весеннего фестиваля искусств Монте-Карло состоится концерт «Французская музыка для клавесина» с участием Оливье Бомона. \nНачало в 14:30. \nСтоимость билетов — 15 евро\, приобрести и можно на сайте.
URL:https://www.hellomonaco.ru/event/vesennij-festival-iskusstv-kontsert-frantsuzskaya-muzyka-dlya-klavesina-2/
LOCATION:Oceanographique Museum\, Monaco
ATTACH;FMTTYPE=image/jpeg:https://www.hellomonaco.ru/wp-content/uploads/2021/03/2021-04-09-Olivier-Baumont-2-scaled-1.jpg
END:VEVENT
BEGIN:VEVENT
DTSTART;TZID=Europe/Monaco:20210410T150000
DTEND;TZID=Europe/Monaco:20210410T170000
DTSTAMP:20260424T022603
CREATED:20210326T144107Z
LAST-MODIFIED:20210326T144107Z
UID:125148-1618066800-1618074000@www.hellomonaco.ru
SUMMARY:Показ фильма "Не трогай белую женщину!"
DESCRIPTION:10 апреля в Театре Варьете состоится показ фильма Марко Феррери «Не трогай белую женщину!»\, организованный Аудиовизуальным институтом Монако. \nНачало в 15:00. \nПодробности на сайте. \n 
URL:https://www.hellomonaco.ru/event/pokaz-filma-ne-trogaj-beluyu-zhenshhinu/
LOCATION:Театр Варьете\, 1 Boulevard Albert 1er 98000 \, Monaco
ATTACH;FMTTYPE=image/jpeg:https://www.hellomonaco.ru/wp-content/uploads/2021/03/Snimok-ekrana-2021-02-24-v-12.42.47-2.jpg
END:VEVENT
BEGIN:VEVENT
DTSTART;TZID=Europe/Monaco:20210411T150000
DTEND;TZID=Europe/Monaco:20210411T170000
DTSTAMP:20260424T022603
CREATED:20210301T093600Z
LAST-MODIFIED:20210301T093600Z
UID:124678-1618153200-1618160400@www.hellomonaco.ru
SUMMARY:Весенний Фестиваль Искусств: заключительный концерт
DESCRIPTION:11 апреля в Аудитории Ренье III состоится заключительный концерт Весеннего фестиваля искусств Монте-Карло с участием Филармонического оркестра Монте-Карло под управлением Гергели Мадараса. \nНачало в 15:00. \nСтоимость билетов — 10-35 евро\, приобрести и можно на сайте.
URL:https://www.hellomonaco.ru/event/vesennij-festival-iskusstv-zaklyuchitelnyj-kontsert/
LOCATION:Auditorium Rainier III\, Monaco
ATTACH;FMTTYPE=image/jpeg:https://www.hellomonaco.ru/wp-content/uploads/2021/03/2021-04-11-Gergely-Madaras-scaled-1.jpg
END:VEVENT
BEGIN:VEVENT
DTSTART;VALUE=DATE:20210412
DTEND;VALUE=DATE:20210424
DTSTAMP:20260424T022603
CREATED:20210409T195219Z
LAST-MODIFIED:20210409T195219Z
UID:125379-1618196400-1619146799@www.hellomonaco.ru
SUMMARY:Программа мероприятий Медиатеки Монако
DESCRIPTION:В рамках перенесённых весенних каникул на более ранние даты правительство княжества уверило родителей\, что поддержит их в этой ситуации. \nСемьям объяснили\, что во время переноса весенних каникул пройдут все первоначально запланированные мероприятия. \nТак\, Медиа-библиотека Монако адаптирует свою молодёжную развлекательную программу. \nРазвлечения\, предлагаемые в Библиотеке принцессы Каролины\, начнутся в понедельник\, 12 апреля. Мастерские DIY\, манга\, музыка… Темы разнообразны и предназначены для разных возрастных категорий. \nМероприятия бесплатны по предварительной регистрации и пройдут в строгом соответствии с санитарными мерами. \nНайти полную программу можно на сайте www.mediatheque.mc \n \n  \nАдрес Библиотеки принцессы Каролины: 1\, boulevard Albert Ier Тел. +377 93 15 22 72 / 74
URL:https://www.hellomonaco.ru/event/programma-meropriyatij-mediateki-monako/
LOCATION:Médiathèque de Monaco\, 8 Rue Louis Notari\, 98000 \, Monaco
ATTACH;FMTTYPE=image/jpeg:https://www.hellomonaco.ru/wp-content/uploads/2020/02/86AF0180-647F-4349-A99C-8CEE192B04F8.jpeg
END:VEVENT
BEGIN:VEVENT
DTSTART;TZID=Europe/Monaco:20210415T160000
DTEND;TZID=Europe/Monaco:20210415T173000
DTSTAMP:20260424T022603
CREATED:20210326T151010Z
LAST-MODIFIED:20210326T151010Z
UID:125157-1618502400-1618507800@www.hellomonaco.ru
SUMMARY:Концерт камерной музыки
DESCRIPTION:15 апреля в Доме Франции в рамках Musical Happy Hour состоится концерт камерной музыки. \nПрозвучат произведения Дебюсси\, Тору Такэмицу\, Арнольда Бакса и Макса Меро. \nНачало в 16:00. \nСтоимость билетов — 13 евро\, приобрести их можно здесь.
URL:https://www.hellomonaco.ru/event/kontsert-kamernoj-muzyki-4/
ATTACH;FMTTYPE=image/jpeg:https://www.hellomonaco.ru/wp-content/uploads/2021/02/visuel-HH-2020-21.jpg
END:VEVENT
BEGIN:VEVENT
DTSTART;TZID=Europe/Monaco:20210415T160000
DTEND;TZID=Europe/Monaco:20210415T173000
DTSTAMP:20260424T022603
CREATED:20210326T152345Z
LAST-MODIFIED:20210326T152345Z
UID:125162-1618502400-1618507800@www.hellomonaco.ru
SUMMARY:«Монако в кино»
DESCRIPTION:15 апреля Аудиовизуальный институт Монако приглашает открыть для себя разнообразие архивов и любопытных фактов на тему «Монако в кино». \nОбязательное бронирование. Подробности на сайте. \nНачало в 16:00.
URL:https://www.hellomonaco.ru/event/monako-v-kino-2/
ATTACH;FMTTYPE=image/jpeg:https://www.hellomonaco.ru/wp-content/uploads/2021/03/160952852_307517330706570_8771429614691769795_n.jpg
END:VEVENT
BEGIN:VEVENT
DTSTART;TZID=Europe/Monaco:20210416T080000
DTEND;TZID=Europe/Monaco:20210416T170000
DTSTAMP:20260424T022603
CREATED:20210416T083522Z
LAST-MODIFIED:20210416T083522Z
UID:125536-1618560000-1618592400@www.hellomonaco.ru
SUMMARY:Лекция и автограф-сессия посла Франции в Монако Лорана Стефанини
DESCRIPTION:20 апреля в Библиотеке Луи Нотари состоится лекция и автограф-сессия французского дипломата и посла Франции в Монако Лорана Стефанини. \nВ октябре 2016 года Лоран Стефанини опубликовал книгу «За столом с дипломатами»\, в которой рассказывается о 500-летней истории Франции посредством великолепных обедов. \nНачало в 16:00.
URL:https://www.hellomonaco.ru/event/lektsiya-i-avtograf-sessiya-posla-frantsii-v-monako-lorana-stefanini/
ATTACH;FMTTYPE=image/jpeg:https://www.hellomonaco.ru/wp-content/uploads/2021/04/mayor-917149_1920.jpg
END:VEVENT
BEGIN:VEVENT
DTSTART;TZID=Europe/Monaco:20210416T140000
DTEND;TZID=Europe/Monaco:20210418T153000
DTSTAMP:20260424T022603
CREATED:20210326T145326Z
LAST-MODIFIED:20210326T145326Z
UID:125151-1618581600-1618759800@www.hellomonaco.ru
SUMMARY:Хореографическая постановка Балета Монте-Карло “COPPÉL-i.A.”
DESCRIPTION:С 16 по 18 апреля в Гримальди Форуме Балетом Монте-Карло будет представлена хореографическая постановка «COPPÉL-i.A.». \nБалет Монте-Карло (Les Ballets de Monte-Carlo) предлагает любителям хореографического искусства оценить балетную постановку «Coppél-i.A.»\, новое творение руководителя труппы Жана-Кристофа Майо. Хореограф-постановщик обратился к одному из известнейших спектаклей из романтического репертуара\, но сделал это весьма своеобразно: он исследует мир машин и ставит под сомнение преимущества стремительного развития искусственного интеллекта в современном мире. Жан-Кристоф Майо переносит зрителей в ближайшее будущее\, где двое влюбленных\, Франц и Сванильда\, стремятся познать плотскую любовь\, в то время как в обществе активно насаждаются технический прогресс\, безопасность и гигиена. Увидеть неожиданную трактовку классического балета на музыку Лео Делиба можно будет в Форуме Гримальди. \nНачало в 14:00. \nСтоимость билетов — 12-36 евро\, приобрести их можно здесь. \nПодробности на сайте.
URL:https://www.hellomonaco.ru/event/horeograficheskaya-postanovka-baleta-monte-karlo-coppel-i-a-2/
LOCATION:Grimaldi Forum Monaco\, Monaco\, Монако
ATTACH;FMTTYPE=image/jpeg:https://www.hellomonaco.ru/wp-content/uploads/2021/03/794-COPPELIA.jpg
END:VEVENT
BEGIN:VEVENT
DTSTART;TZID=Europe/Monaco:20210417T163000
DTEND;TZID=Europe/Monaco:20210417T180000
DTSTAMP:20260424T022603
CREATED:20210416T082145Z
LAST-MODIFIED:20210416T082145Z
UID:125527-1618677000-1618682400@www.hellomonaco.ru
SUMMARY:Литературные чтения
DESCRIPTION:17 апреля в Библиотеке Луи Нотари Жюли Лепэр и Амбр Пьетри прочтут пьесу «Comment faire mon amour ?» (Как я люблю?) под музыку Эллиота Штольца. \nНачало в 16:30.
URL:https://www.hellomonaco.ru/event/literaturnye-chteniya/
LOCATION:Bibliothèque Louis Notari/Библиотека Луи Нотари\, 8 Rue Louis Notari\, 98000 \, Monaco
ATTACH;FMTTYPE=image/jpeg:https://www.hellomonaco.ru/wp-content/uploads/2021/04/book-1835799_1920.jpg
END:VEVENT
BEGIN:VEVENT
DTSTART;TZID=Europe/Monaco:20210418T160000
DTEND;TZID=Europe/Monaco:20210418T170000
DTSTAMP:20260424T022603
CREATED:20210326T151928Z
LAST-MODIFIED:20210326T151928Z
UID:125159-1618761600-1618765200@www.hellomonaco.ru
SUMMARY:Концерт духовной музыки
DESCRIPTION:18 апреля в церкви Saint-Charles состоится концерт духовной музыки с участием Филармонического оркестра Монте-Карло. \nПрозвучат произведения представителей семьи Баха\, в том числе Иоганна Себастьяна. \nНачало в 16:00\, вход свободный при наличии мест.
URL:https://www.hellomonaco.ru/event/kontsert-duhovnoj-muzyki-3/
LOCATION:Eglise Saint-Charles
ATTACH;FMTTYPE=image/jpeg:https://www.hellomonaco.ru/wp-content/uploads/2021/03/peter-szuts.jpg
END:VEVENT
BEGIN:VEVENT
DTSTART;VALUE=DATE:20210419
DTEND;VALUE=DATE:20210421
DTSTAMP:20260424T022603
CREATED:20210416T082529Z
LAST-MODIFIED:20210416T082529Z
UID:125533-1618801200-1618887599@www.hellomonaco.ru
SUMMARY:Показ фильма «Паразиты»
DESCRIPTION:19 апреля в Епархиальном доме Агора состоится показ фильма режиссёра Пон Чжун Хо «Паразиты». \nТел. +377 93 30 88 10.
URL:https://www.hellomonaco.ru/event/pokaz-filma-parazity/
ATTACH;FMTTYPE=image/jpeg:https://www.hellomonaco.ru/wp-content/uploads/2021/04/scale_1200.jpg
END:VEVENT
BEGIN:VEVENT
DTSTART;TZID=Europe/Monaco:20210421T100000
DTEND;TZID=Europe/Monaco:20210421T120000
DTSTAMP:20260424T022603
CREATED:20210418T201326Z
LAST-MODIFIED:20210418T201326Z
UID:125616-1618999200-1619006400@www.hellomonaco.ru
SUMMARY:Богослужение в Православном приходе Монако
DESCRIPTION:Православный приход Святых Царственных Мучеников в Монако ждёт вас в апреле на богослужениях\, посвящённых: \n21 апреля/ среда/ 10:00/ Апп.Иродиона\, Агава\, Асинкрита\, Руфа\, Флегонта\, Ерма и иже с ними. \n24 апреля/ суббота/ 09:30/ Лазарева суббота. Воскрешение прав. Лазаря. \n25 апреля/ воскресенье/ 08:00/ Вход Господень в Иерусалим. \n27 апреля/ вторник/ 10:00/ Великий Вторник. Свт. Мартина исп.\, папы Римского. \n28 апреля/ среда/ 18:00/ Великая Среда. Апп. от 70-ти Аристарха\, Пуда и Трофима.Соборование. \n29 апреля/ четверг/ 09:30/ Великий Четверг. Воспоминание Тайной Ве́чери.Мцц. Агапии\, Ирины и Хионии. \n18:00 — Утреня. Последования Святых Страстей Господа нашего Иисуса Христа. \n30 апреля/ пятница/ 16:00/ Вечерня. Вынос Плащаницы. \n18:00 — Утреня. Погребение Господне. \n1 мая/ суббота/ 09:00/ Великая Суббота. Прп. Иоанна\, ученика прп. Григория Декаполита. \n23:30 — Полунощница. \n2 мая/ воскресенье/ 00:00/ Светлое Христово Воскресение. ПАСХА ГОСПОДНЯ. \nБогослужения проходят по адресу: Église Réformée\, 7 Rue Louis Notari\, 98000\, Monaco \nУбедительная просьба протоиерея Вадима Закревского ко всем желающим исповедоваться — приходить обязательно к началу службы\, не позже 9:30. А к причастию могут подходить только те\, кто предварительно исповедовался! \nПросим вас соблюдать социальную дистанцию\, использовать медицинскую маску и другие меры безопасности во время нахождения в храме. \n+377 640 62 68 54\nwww.ruscerkovmonaco.org\nparoisse@ruscerkovmonaco.org
URL:https://www.hellomonaco.ru/event/bogosluzhenie-v-pravoslavnom-prihode-monako-124/
ATTACH;FMTTYPE=image/jpeg:https://www.hellomonaco.ru/wp-content/uploads/2020/10/Screenshot_1-1.jpg
END:VEVENT
BEGIN:VEVENT
DTSTART;TZID=Europe/Monaco:20210422T140000
DTEND;TZID=Europe/Monaco:20210422T160000
DTSTAMP:20260424T022603
CREATED:20210326T153504Z
LAST-MODIFIED:20210326T153551Z
UID:125167-1619100000-1619107200@www.hellomonaco.ru
SUMMARY:Опера "Борис Годунов"
DESCRIPTION:22\, 27\, 29 апреля и 2 мая в Опере Монте-Карло будет дана опера Модеста Мусоргского «Борис Годунов” с участием хора Оперы и Филармонического оркестра Монте-Карло под управлением Константина Чудовского. \nВремя представлений — 14:00. \n 
URL:https://www.hellomonaco.ru/event/opera-boris-godunov/
LOCATION:Opéra Garnier Monte-Carlo\, Casino Monte-Carlo\, Place du Casino\, 98000\, 98000\, Monaco
ATTACH;FMTTYPE=image/jpeg:https://www.hellomonaco.ru/wp-content/uploads/2021/03/Screenshot_1-3.jpg
END:VEVENT
BEGIN:VEVENT
DTSTART;TZID=Europe/Monaco:20210422T170000
DTEND;TZID=Europe/Monaco:20210422T183000
DTSTAMP:20260424T022603
CREATED:20210326T152527Z
LAST-MODIFIED:20210326T152527Z
UID:125165-1619110800-1619116200@www.hellomonaco.ru
SUMMARY:«Монако в кино»
DESCRIPTION:22 апреля Аудиовизуальный институт Монако приглашает открыть для себя разнообразие архивов и любопытных фактов на тему «Монако в кино». \nОбязательное бронирование. Подробности на сайте. \nНачало в 17:00.
URL:https://www.hellomonaco.ru/event/monako-v-kino-3/
ATTACH;FMTTYPE=image/jpeg:https://www.hellomonaco.ru/wp-content/uploads/2021/03/160952852_307517330706570_8771429614691769795_n.jpg
END:VEVENT
END:VCALENDAR