BEGIN:VCALENDAR
VERSION:2.0
PRODID:-//HelloMonaco.ru - ECPv6.0.10//NONSGML v1.0//EN
CALSCALE:GREGORIAN
METHOD:PUBLISH
X-ORIGINAL-URL:https://www.hellomonaco.ru
X-WR-CALDESC:Мероприятия для HelloMonaco.ru
REFRESH-INTERVAL;VALUE=DURATION:PT1H
X-Robots-Tag:noindex
X-PUBLISHED-TTL:PT1H
BEGIN:VTIMEZONE
TZID:Europe/Monaco
BEGIN:DAYLIGHT
TZOFFSETFROM:+0100
TZOFFSETTO:+0200
TZNAME:CEST
DTSTART:20260329T010000
END:DAYLIGHT
BEGIN:STANDARD
TZOFFSETFROM:+0200
TZOFFSETTO:+0100
TZNAME:CET
DTSTART:20261025T010000
END:STANDARD
END:VTIMEZONE
BEGIN:VEVENT
DTSTART;VALUE=DATE:20260129
DTEND;VALUE=DATE:20260209
DTSTAMP:20260423T120144
CREATED:20211228T181955Z
LAST-MODIFIED:20260201T200934Z
UID:131496-1769655600-1770519599@www.hellomonaco.ru
SUMMARY:Историческое ралли Монте-Карло
DESCRIPTION:С 29 января по 7 февраля 28-Историческое Ралли Монте-Карло\, соберёт классические автомобили с 1911 по 1986 годы. \nМаршрут стартует из шести европейских городов: Джон О’Гроатс (Шотландия)\, Бад Гumble\, Барселона\, Монако\, Реймс и Турин. В программе — специальные этапы и гонки на время\, испытания на проверку навыков навигации и управления. \nЯркий финал состоится в Монако\, где пройдёт церемония награждения и торжественный финиш. \nПодробности на сайте Автомобильного клуба Монако.
URL:https://www.hellomonaco.ru/event/26-e-istoricheskoe-ralli-monte-karlo-2/
ATTACH;FMTTYPE=image/jpeg:https://www.hellomonaco.ru/wp-content/uploads/2023/02/8FA7F40B-B31A-4DA1-9D87-A7233044FEE1-1024x768-1.jpeg
END:VEVENT
BEGIN:VEVENT
DTSTART;VALUE=DATE:20260129
DTEND;VALUE=DATE:20260203
DTSTAMP:20260423T120144
CREATED:20260201T201711Z
LAST-MODIFIED:20260201T201711Z
UID:151631-1769655600-1770001199@www.hellomonaco.ru
SUMMARY:Спектакль “Причина для безумия”
DESCRIPTION:С 29 января по 1 февраля на сцене Театра Муз сыграют спектакль “Причина для безумия” («The Reason For The Craziest»). \nВ центре сюжета — дуэль умов\, воспоминания о конфликтах Дидро и Руссо\, их остроумные споры и глубокие разногласия во времена Просвещения. Этот спектакль смешивает юмор и философию и раскрывает сложные человеческие отношения и вызовы эпохи. \nВечерние показы — 29\, 30 и 31 января в 20:00\, а также 1 февраля в 16:30. \nСтоимость билета — от 19 евро
URL:https://www.hellomonaco.ru/event/spektakl-prichina-dlya-bezumiya/
LOCATION:Théâtre des Muses\, 45A Bd du Jardin Exotique\, Monaco\, 98000\, Монако
ATTACH;FMTTYPE=image/jpeg:https://www.hellomonaco.ru/wp-content/uploads/2023/09/felix-mooneeram-evlkOfkQ5rE-unsplash.jpg
END:VEVENT
BEGIN:VEVENT
DTSTART;VALUE=DATE:20260201
DTEND;VALUE=DATE:20260203
DTSTAMP:20260423T120144
CREATED:20231118T123524Z
LAST-MODIFIED:20260201T200557Z
UID:130537-1769914800-1770001199@www.hellomonaco.ru
SUMMARY:День рождения принцессы Стефании
DESCRIPTION:1 февраля 1965 года родилась младшая сестра князя Альбера II и принцессы Каролины\, принцесса Стефания (Стефания Мария Элизабет Гримальди)\, графиня Полиньяк. Она 14-я в очереди наследования престола\, и является младшим ребёнком князя Монако Ренье III и принцессы Монако Грейс. \nЕё дядя по материнской линии Джон Брэндон Келли-младший был её крестным отцом\, а двоюродная сестра по отцовской линии\, покойная баронесса Элизабет-Энн де Масси\, была её крестной матерью. \nВ браке с Даниэлем Дюкрюэ у пары было двое детей: Луи (1992) и Полин Дюкрюэ (1994). Третий ребенок Стефании\, Камилла Готтлиб\, родилась 15 июля 1999 года.
URL:https://www.hellomonaco.ru/event/den-rozhdeniya-printsessy-stefanii/
ATTACH;FMTTYPE=image/jpeg:https://www.hellomonaco.ru/wp-content/uploads/2021/11/344978_014.jpg
END:VEVENT
BEGIN:VEVENT
DTSTART;TZID=Europe/Monaco:20260203T190000
DTEND;TZID=Europe/Monaco:20260203T210000
DTSTAMP:20260423T120144
CREATED:20260201T201103Z
LAST-MODIFIED:20260201T201103Z
UID:151622-1770145200-1770152400@www.hellomonaco.ru
SUMMARY:Классика Голливуда: «История Филадельфии»
DESCRIPTION:3 февраля в Театре Варьете пройдет показ знаменитой комедии «История Филадельфии»\, снятой в 1940 году Джорджем Кукаром. В фильме играют Кэри Грант и Кэтрин Хепбэрн. Лента стала классикой романтического кино! \nМероприятие организует Институт Аудиовизуальных Монако. Вечер начнется в 19:00 по адресу: бульвар Альбер I.
URL:https://www.hellomonaco.ru/event/klassika-gollivuda-istoriya-filadelfii/
LOCATION:Théâtre des Variétés\, 1\, Boulevard Albert 1er \, Monaco\, 98000\, Monaco
ATTACH;FMTTYPE=image/jpeg:https://www.hellomonaco.ru/wp-content/uploads/2022/10/pexels-photo-65128.jpeg
END:VEVENT
BEGIN:VEVENT
DTSTART;VALUE=DATE:20260204
DTEND;VALUE=DATE:20260206
DTSTAMP:20260423T120144
CREATED:20260201T201202Z
LAST-MODIFIED:20260201T201202Z
UID:151624-1770174000-1770260399@www.hellomonaco.ru
SUMMARY:Концерт пианиста Евгения Кисина
DESCRIPTION:4 февраля в Аудиториуме Ренье III состоится концерт выдающегося пианиста Евгения Кисина в сопровождении филармонического оркестра Монте-Карло. \nЭтот музыкальный вечер обещает стать настоящим праздником искусства. В программе — произведения великих композиторов: Бетховена\, Шопена\, Шумана и Листа. Зрители услышат знаменитую Сонату №7\, мазурки\, Kreisleriana. \nНе пропустите возможность погрузиться в богатую палитру классической музыки вместе с одним из лучших пианистов современности! \nСтоимость билета — от 19 евро
URL:https://www.hellomonaco.ru/event/kontsert-pianista-evgeniya-kisina/
LOCATION:Auditorium Rainier III\, Monaco
ATTACH;FMTTYPE=image/jpeg:https://www.hellomonaco.ru/wp-content/uploads/2022/12/sheet-music-music-melody-sheet-preview.jpg
END:VEVENT
BEGIN:VEVENT
DTSTART;VALUE=DATE:20260205
DTEND;VALUE=DATE:20260210
DTSTAMP:20260423T120144
CREATED:20260201T201550Z
LAST-MODIFIED:20260201T201550Z
UID:151629-1770260400-1770605999@www.hellomonaco.ru
SUMMARY:Театральный мюзикл о Ленноне и Маккартни
DESCRIPTION:С 5 по 8 февраля на сцене Театра Муз сыграют музыкальную постановку «Леннон и Маккартни» о легендарных участниках группы The Beatles. Спектакль включает фрагменты легендарных хитов бенда и рассказывает о дружбе двух легенд. \nВечерние спектакли пройдут 5\, 6\, 7 февраля в 20:00\, а также 8 февраля в 14:30 и 17:00. \nСтоимость билета — от 19 евро
URL:https://www.hellomonaco.ru/event/teatralnyj-myuzikl-o-lennone-i-makkartni/
LOCATION:Théâtre des Muses\, 45A Bd du Jardin Exotique\, Monaco\, 98000\, Монако
ATTACH;FMTTYPE=image/jpeg:https://www.hellomonaco.ru/wp-content/uploads/2023/01/paolo-chiabrando-G16kFHYvCoQ-unsplash.jpg
END:VEVENT
BEGIN:VEVENT
DTSTART;VALUE=DATE:20260206
DTEND;VALUE=DATE:20260208
DTSTAMP:20260423T120144
CREATED:20260201T201324Z
LAST-MODIFIED:20260201T201324Z
UID:151626-1770346800-1770433199@www.hellomonaco.ru
SUMMARY:Форум по трудоустройству
DESCRIPTION:6 февраля в Гримальди Форуме состоится крупнейшее событие для поиска работы и деловых контактов. \nДля соискателей форум станет отличной возможностью изучить рынок и найти потенциальных работодателей.  В этом году событие объединит более 5000 участников. В центре внимания — сетевое взаимодействие\, диверсификация и будущее рынка труда. Особое внимание уделят цифровым профессиям и искусственному интеллекту\, а также возможностям карьерного роста в Монако.
URL:https://www.hellomonaco.ru/event/forum-po-trudoustrojstvu-2/
LOCATION:Grimaldi Forum Monaco\, Monaco\, Монако
ATTACH;FMTTYPE=image/jpeg:https://www.hellomonaco.ru/wp-content/uploads/2026/02/mpe2026_80x120_web.jpeg
END:VEVENT
END:VCALENDAR